BEGIN:VCALENDAR
VERSION:2.0
METHOD:PUBLISH
PRODID:-//hacksw/handcal//NONSGML v1.0//EN
BEGIN:VEVENT
DTSTAMP:20211001T073500Z
DTSTART:20180511T150000Z
DTEND:20180511T160000Z
UID:20180511T150000Z-20180511T160000Z-98@southbethany.delaware.gov
SUMMARY:Communications and Public Relations Committee Meeting
DESCRIPTION:Minutes - May 11\, 2018\, Communications and Public Relati
 ons Committee Meeting\n\nAgenda - May 11\, 2018\, Communications and P
 ublic Relations Committee Meeting
X-ALT-DESC;FMTTYPE=text/html:<p><a href=http://southbethany.delaware.g
 ov/files/2018/11/Minutes-May-11-2018-Communications-and-Public-Relatio
 ns-Committee-Meeting.pdf>Minutes &#8211\; May 11\, 2018\, Communicatio
 ns and Public Relations Committee Meeting</a></p>\n<p><a href=http://s
 outhbethany.delaware.gov/files/2018/11/Agenda-May-11-2018-Communicatio
 ns-and-Public-Relations-Committee-Meeting.pdf>Agenda &#8211\; May 11\,
  2018\, Communications and Public Relations Committee Meeting</a></p>\
 n
URL:https://southbethany.delaware.gov/events/98/communications-and-pub
 lic-relations-committee-meeting/
ATTACH:https://southbethany.delaware.gov/events/98/communications-and-
 public-relations-committee-meeting/
LOCATION:Town Hall\, 402 Evergreen Road\, South Bethany
END:VEVENT
END:VCALENDAR
