BEGIN:VCALENDAR
VERSION:2.0
METHOD:PUBLISH
PRODID:-//hacksw/handcal//NONSGML v1.0//EN
BEGIN:VEVENT
DTSTAMP:20260425T115525Z
DTSTART:20190913T230000Z
DTEND:20190914T000000Z
UID:20190913T230000Z-20190914T000000Z-901@southbethany.delaware.gov
SUMMARY:Town Council Regular Meeting
DESCRIPTION:Click or tap to open the following PDFs:\n\nSeptember 13\,
  2019\, Town Council Regular Meeting Minutes\n\nAgenda - September 13\
 , 2019\, Town Council Regular Meeting\n\nLeadership Reports:\n\nMayor 
 Report\n\nTown Manager and Departments\n\nAttachment to Town Manager R
 eport - PD Monthly Data Report\n\nAttachment to Town Manager Report - 
 Code Enforcement Report\n\nTreasurer Report\n\nCommittee Reports:\n\nC
 harter and Code Committee\n\nCommunications and Public Relations Commi
 ttee\n\nCommunity Enhancement Committee\nAgenda\n1. Meeting Called to 
 Order and Pledge to the Flag\nA. Announcement of Absences and Particip
 ation by Remote Access\n\n2. Adoption of Minutes – August 9\, 2019\, T
 own Council Regular Meeting\n\n3. Introduction of Officer Terik Fuller
 ton\n\n4. Discussion and vote to approve Lexipol contract for Police D
 epartment\n\n5. Leadership Reports\nA. Mayor's Report\nB. Town Manager
 's Report\nC. Treasurer's Report\n\n6. Committee and Commission Report
 s\nA. Budget and Finance Committee\nB. Canal Water Quality Committee\n
 C. Charter and Code Committee\nD. Communications and Public Relations 
 Committee – Report will include viewing the new Town of South Bethany 
 video\nE. Community Enhancement Committee\n\n7. Public Comment (3-minu
 te limit per speaker)\n\n8. Adjournment
X-ALT-DESC;FMTTYPE=text/html:<p><strong>Click or tap to open the follo
 wing PDFs:</strong></p>\n<p><a href=https://southbethany.delaware.gov/
 files/2019/10/September-13-2019-Town-Council-Regular-Meeting-Minutes.p
 df target=_blank rel=noopener><strong>September 13\, 2019\, Town Counc
 il Regular Meeting Minutes</strong></a></p>\n<p><strong><a href=https:
 //southbethany.delaware.gov/files/2019/09/Agenda-September-13-2019-Tow
 n-Council-Regular-Meeting.pdf target=_blank rel=noopener>Agenda &#8211
 \; September 13\, 2019\, Town Council Regular Meeting</a></strong></p>
 \n<p><strong>Leadership Reports:</strong></p>\n<p><a href=https://sout
 hbethany.delaware.gov/files/2019/09/Mayor-Report-September-2019.pdf ta
 rget=_blank rel=noopener><strong>Mayor Report</strong></a></p>\n<p><a 
 href=https://southbethany.delaware.gov/files/2019/09/Sept-13-2019-Mana
 ger-and-Departments-Report.pdf target=_blank rel=noopener><strong>Town
  Manager and Departments</strong></a></p>\n<p><a href=https://southbet
 hany.delaware.gov/files/2019/09/2019-August-PD-Monthly-Report.pdf targ
 et=_blank rel=noopener><strong>Attachment to Town Manager Report &#821
 1\; PD Monthly Data Report</strong></a></p>\n<p><a href=https://southb
 ethany.delaware.gov/files/2019/09/CODE-ENFORCEMENT-REPORT-August-2019.
 pdf target=_blank rel=noopener><strong>Attachment to Town Manager Repo
 rt &#8211\; Code Enforcement Report</strong></a></p>\n<p><a href=https
 ://southbethany.delaware.gov/files/2019/09/FY2020.August.Treasurer-rep
 ort.pdf target=_blank rel=noopener><strong>Treasurer Report</strong></
 a></p>\n<p><strong>Committee Reports:</strong></p>\n<p><a href=https:/
 /southbethany.delaware.gov/files/2019/09/Charter-Code-Committee-Report
 -September-2019.pdf target=_blank rel=noopener><strong>Charter and Cod
 e Committee</strong></a></p>\n<p><a href=https://southbethany.delaware
 .gov/files/2019/09/CPR-Report-to-the-Town-Council-9-13-2019.pdf target
 =_blank rel=noopener><strong>Communications and Public Relations Commi
 ttee</strong></a></p>\n<p><a href=https://southbethany.delaware.gov/fi
 les/2019/09/CEC-TC-Meeting-Report-9-13-19.pdf target=_blank rel=noopen
 er><strong>Community Enhancement Committee</strong></a></p>\n<p style=
 text-align: center><strong>Agenda</strong></p>\n<p>1. Meeting Called t
 o Order and Pledge to the Flag<br />\nA. Announcement of Absences and 
 Participation by Remote Access</p>\n<p>2. Adoption of Minutes – August
  9\, 2019\, Town Council Regular Meeting</p>\n<p>3. Introduction of Of
 ficer Terik Fullerton</p>\n<p>4. Discussion and vote to approve Lexipo
 l contract for Police Department</p>\n<p>5. Leadership Reports<br />\n
 A. Mayor&#8217\;s Report<br />\nB. Town Manager&#8217\;s Report<br />\
 nC. Treasurer&#8217\;s Report</p>\n<p>6. Committee and Commission Repo
 rts<br />\nA. Budget and Finance Committee<br />\nB. Canal Water Quali
 ty Committee<br />\nC. Charter and Code Committee<br />\nD. Communicat
 ions and Public Relations Committee – Report will include viewing the 
 new Town of South Bethany video<br />\nE. Community Enhancement Commit
 tee</p>\n<p>7. Public Comment (3-minute limit per speaker)</p>\n<p>8. 
 Adjournment</p>\n
URL:https://southbethany.delaware.gov/events/town-council-regular-meet
 ing-5/?lang=en
ATTACH:https://southbethany.delaware.gov/events/town-council-regular-m
 eeting-5/?lang=en
LOCATION:Town Hall\, 402 Evergreen Road\, South Bethany
END:VEVENT
END:VCALENDAR
