BEGIN:VCALENDAR
VERSION:2.0
METHOD:PUBLISH
PRODID:-//hacksw/handcal//NONSGML v1.0//EN
BEGIN:VEVENT
DTSTAMP:20260425T114858Z
DTSTART:20190822T200000Z
DTEND:20190822T210000Z
UID:20190822T200000Z-20190822T210000Z-898@southbethany.delaware.gov
SUMMARY:Canceled - Town Council Workshop Meeting
DESCRIPTION:NOTICE\nTOWN OF SOUTH BETHANY\nAUGUST 22\, 2019\nTOWN COUN
 CIL WORKSHOP MEETING CANCELED\nThe Town of South Bethany Town Council 
 Workshop Meeting scheduled for Thursday\, August 22\, at 3 p.m. has be
 en canceled.
X-ALT-DESC;FMTTYPE=text/html:<p style=text-align: center><strong>NOTIC
 E</strong><br />\n<strong>TOWN OF SOUTH BETHANY</strong><br />\n<stron
 g>AUGUST 22\, 2019</strong><br />\n<strong>TOWN COUNCIL WORKSHOP MEETI
 NG CANCELED</strong></p>\n<p>The Town of South Bethany Town Council Wo
 rkshop Meeting scheduled for Thursday\, August 22\, at 3 p.m. has been
  canceled.</p>\n
URL:https://southbethany.delaware.gov/events/town-council-workshop-mee
 ting-5/
ATTACH:https://southbethany.delaware.gov/events/town-council-workshop-
 meeting-5/
LOCATION:Town Hall\, 402 Evergreen Road\, South Bethany
END:VEVENT
END:VCALENDAR
