BEGIN:VCALENDAR
VERSION:2.0
METHOD:PUBLISH
PRODID:-//hacksw/handcal//NONSGML v1.0//EN
BEGIN:VEVENT
DTSTAMP:20260425T212136Z
DTSTART:20190809T230000Z
DTEND:20190810T000000Z
UID:20190809T230000Z-20190810T000000Z-895@southbethany.delaware.gov
SUMMARY:Town Council Regular Meeting
DESCRIPTION:Click or tap to open the following PDFs:\n\nAugust 9\, 201
 9\, Town Council Regular Meeting Minutes\n\nAgenda - August 9\, 2019\,
  Town Council Regular Meeting\n\nSecond Reading Ordinance 195-19\n\nRe
 solution No. 5-19 to Revise the South Bethany Schedule of Fees\n\nAtta
 chment to Resolution No. 5-19\n\nLeadership Reports:\n\nMayor Report\n
 \nTown Manager and Departments\n\nAttachment to Town Manager Report - 
 PD Monthly Data Report\n\nAttachment to Town Manager Report - Code Enf
 orcement Report\n\nTreasurer Report\n\nCommittee Reports:\n\nBudget an
 d Finance Committee\n\nCharter and Code Committee\n\nCommunications an
 d Public Relations Committee\n\nCommunity Enhancement Committee\nAgend
 a\n1. Meeting Called to Order and Pledge to the Flag\nA. Announcement 
 of Absences and Participation by Remote Access\n\n2. Adoption of Minut
 es – July 25\, 2019\, Town Council Workshop Meeting\n\n3. Ordinance 19
 5-19\nA. Second Reading of Ordinance No. 195-19\, to amend the Code of
  the Town of South Bethany Chapter 34\, Beaches\, § 34-9 to include th
 e word “events” and amend verbiage\, and to authorize the Town Manager
  to permit a Town sponsored bonfire on the beach in South Bethany\nB. 
 Discussion and possible vote to adopt Ordinance 195-19\n\n4. Discussio
 n and possible vote to adopt Resolution No. 5-19\, a Resolution to Rev
 ise South Bethany’s Schedule of Fees\, to add the Beach Party/Events f
 ee\n\n5. Discussion and vote on approving the submittal of a candidate
  to the Police Academy\n\n6. Administrative Matters\nA. Discussion and
  possible vote to appoint Board of Adjustment Members\nB. Discussion a
 nd possible vote to appoint Planning Commission Members\n\n7. Leadersh
 ip Reports\nA. Mayor's Report\nB. Town Manager's Report\nC. Treasurer'
 s Report\n\n8. Committee and Commission Reports\nA. Budget and Finance
  Committee\nB. Canal Water Quality Committee\nC. Charter and Code Comm
 ittee\nD. Communications and Public Relations Committee\nE. Community 
 Enhancement Committee\n\n9. Public Comment (3-minute limit per speaker
 )\n\n10. Adjournment\n\nNote: The agenda items\, as listed\, may not b
 e considered in sequence. This agenda is subject to change to include 
 additional items including executive sessions or the deletion of items
  including executive sessions which arise at the time of the meeting. 
 29 Del.C § 10004(e)(2)
X-ALT-DESC;FMTTYPE=text/html:<p><strong>Click or tap to open the follo
 wing PDFs:</strong></p>\n<p><a href=https://southbethany.delaware.gov/
 files/2019/09/August-9-2019-Town-Council-Regular-Meeting-Minutes.pdf t
 arget=_blank rel=noopener><strong>August 9\, 2019\, Town Council Regul
 ar Meeting Minutes</strong></a></p>\n<p><strong><a href=https://southb
 ethany.delaware.gov/files/2019/08/Agenda-August-9-2019-Town-Council-Re
 gular-Meeting.pdf target=_blank rel=noopener>Agenda &#8211\; August 9\
 , 2019\, Town Council Regular Meeting</a></strong></p>\n<p><a href=htt
 ps://southbethany.delaware.gov/files/2019/08/Second-Reading-Ordinance-
 195-19.pdf target=_blank rel=noopener><strong>Second Reading Ordinance
  195-19</strong></a></p>\n<p><a href=https://southbethany.delaware.gov
 /files/2019/08/Resolution-No.-5-19-to-Revise-the-South-Bethany-Schedul
 e-of-Fees.pdf target=_blank rel=noopener><strong>Resolution No. 5-19 t
 o Revise the South Bethany Schedule of Fees</strong></a></p>\n<p><a hr
 ef=https://southbethany.delaware.gov/files/2019/08/Attachment-to-Resol
 ution-No.-5-19.pdf target=_blank rel=noopener><strong>Attachment to Re
 solution No. 5-19</strong></a></p>\n<p><strong>Leadership Reports:</st
 rong></p>\n<p><a href=https://southbethany.delaware.gov/files/2019/08/
 Mayor-Report-August-2019.pdf target=_blank rel=noopener><strong>Mayor 
 Report</strong></a></p>\n<p><a href=https://southbethany.delaware.gov/
 files/2019/08/Aug-9-2019-Manager-and-Departments-Report.pdf target=_bl
 ank rel=noopener><strong>Town Manager and Departments</strong></a></p>
 \n<p><strong><a href=https://southbethany.delaware.gov/files/2019/08/J
 uly-2019-Monthly-Report-PD.pdf target=_blank rel=noopener>Attachment t
 o Town Manager Report &#8211\; PD Monthly Data Report</a></strong></p>
 \n<p><strong><a href=https://southbethany.delaware.gov/files/2019/08/C
 ODE-ENFORCEMENT-REPORT-July-2019.pdf target=_blank rel=noopener>Attach
 ment to Town Manager Report &#8211\; Code Enforcement Report</a></stro
 ng></p>\n<p><a href=https://southbethany.delaware.gov/files/2019/08/FY
 20-July.Treasurer-report.pdf target=_blank rel=noopener><strong>Treasu
 rer Report</strong></a></p>\n<p><strong>Committee Reports:</strong></p
 >\n<p><a href=https://southbethany.delaware.gov/files/2019/08/BF-July-
 16-2019-Meeting-Summary.pdf target=_blank rel=noopener><strong>Budget 
 and Finance Committee</strong></a></p>\n<p><strong><a href=https://sou
 thbethany.delaware.gov/files/2019/08/Charter-and-Code-Committee-Report
 -August-2019.pdf target=_blank rel=noopener>Charter and Code Committee
 </a></strong></p>\n<p><strong><a href=https://southbethany.delaware.go
 v/files/2019/08/CPR-Report-to-the-Town-Council-8-9-2019.pdf target=_bl
 ank rel=noopener>Communications and Public Relations Committee</a></st
 rong></p>\n<p><a href=https://southbethany.delaware.gov/files/2019/08/
 CEC-Meeting-Report-8-9-19.pdf target=_blank rel=noopener><strong>Commu
 nity Enhancement Committee</strong></a></p>\n<p style=text-align: cent
 er><strong>Agenda</strong></p>\n<p>1. Meeting Called to Order and Pled
 ge to the Flag<br />\nA. Announcement of Absences and Participation by
  Remote Access</p>\n<p>2. Adoption of Minutes – July 25\, 2019\, Town 
 Council Workshop Meeting</p>\n<p>3. Ordinance 195-19<br />\nA. Second 
 Reading of Ordinance No. 195-19\, to amend the Code of the Town of Sou
 th Bethany Chapter 34\, Beaches\, § 34-9 to include the word “events” 
 and amend verbiage\, and to authorize the Town Manager to permit a Tow
 n sponsored bonfire on the beach in South Bethany<br />\nB. Discussion
  and possible vote to adopt Ordinance 195-19</p>\n<p>4. Discussion and
  possible vote to adopt Resolution No. 5-19\, a Resolution to Revise S
 outh Bethany’s Schedule of Fees\, to add the Beach Party/Events fee</p
 >\n<p>5. Discussion and vote on approving the submittal of a candidate
  to the Police Academy</p>\n<p>6. Administrative Matters<br />\nA. Dis
 cussion and possible vote to appoint Board of Adjustment Members<br />
 \nB. Discussion and possible vote to appoint Planning Commission Membe
 rs</p>\n<p>7. Leadership Reports<br />\nA. Mayor&#8217\;s Report<br />
 \nB. Town Manager&#8217\;s Report<br />\nC. Treasurer&#8217\;s Report<
 /p>\n<p>8. Committee and Commission Reports<br />\nA. Budget and Finan
 ce Committee<br />\nB. Canal Water Quality Committee<br />\nC. Charter
  and Code Committee<br />\nD. Communications and Public Relations Comm
 ittee<br />\nE. Community Enhancement Committee</p>\n<p>9. Public Comm
 ent (3-minute limit per speaker)</p>\n<p>10. Adjournment</p>\n<p>Note:
  The agenda items\, as listed\, may not be considered in sequence. Thi
 s agenda is subject to change to include additional items including ex
 ecutive sessions or the deletion of items including executive sessions
  which arise at the time of the meeting. 29 Del.C § 10004(e)(2)</p>\n
URL:https://southbethany.delaware.gov/events/town-council-regular-meet
 ing-4/?lang=en
ATTACH:https://southbethany.delaware.gov/events/town-council-regular-m
 eeting-4/?lang=en
LOCATION:Town Hall\, 402 Evergreen Road\, South Bethany
END:VEVENT
END:VCALENDAR
