BEGIN:VCALENDAR
VERSION:2.0
METHOD:PUBLISH
PRODID:-//hacksw/handcal//NONSGML v1.0//EN
BEGIN:VEVENT
DTSTAMP:20260424T210653Z
DTSTART:20190725T200000Z
DTEND:20190725T210000Z
UID:20190725T200000Z-20190725T210000Z-892@southbethany.delaware.gov
SUMMARY:Town Council Workshop Meeting
DESCRIPTION:Click or tap to open the following PDFs:\n\nJuly 25\, 2019
 \, Town Council Workshop Meeting Minutes\n\nAgenda - July 25\, 2019\, 
 Town Council Workshop Meeting\nAGENDA\n1. Call Meeting to Order (Mayor
  Saxton)\n\n2. Announcement of Absences and/or Remote Access\n\n3. Ado
 ption of Minutes – July 12\, 2019\, Town Council Regular Meeting\n\n4.
  Update on the town-wide parking project\n\n5. Discussion of possible 
 building renovations to Town Hall\n\n6. Discussion and Possible Vote o
 n Establishing a Coalition with the Town of Bethany Beach to Petition 
 State Government to Enhance Safety on Delaware Route 1 South of the In
 dian River Inlet\n\n7. Discussion regarding the Town Council publishin
 g periodically to residents the Community Values found in the Comprehe
 nsive Plan\n\n8. Discussion of Town Code § 145-9 Vision clearance at c
 orners\n\n9. Public Comment Period\n\n10. Adjournment\n\nNote: The age
 nda items\, as listed\, may not be considered in sequence. This agenda
  is subject to change to include additional items including executive 
 sessions or the deletion of items including executive sessions which a
 rise at the time of the meeting. 29 Del.C § 10004(e)(2)
X-ALT-DESC;FMTTYPE=text/html:<p><strong>Click or tap to open the follo
 wing PDFs:</strong></p>\n<p><a href=https://southbethany.delaware.gov/
 files/2019/08/July-25-2019-Town-Council-Workshop-Meeting-Minutes.pdf t
 arget=_blank rel=noopener><strong>July 25\, 2019\, Town Council Worksh
 op Meeting Minutes</strong></a></p>\n<p><strong><a href=https://southb
 ethany.delaware.gov/files/2019/07/Agenda-July-25-2019-Town-Council-Wor
 kshop-Meeting-2.pdf target=_blank rel=noopener>Agenda &#8211\; July 25
 \, 2019\, Town Council Workshop Meeting</a></strong></p>\n<p style=tex
 t-align: center><strong>AGENDA</strong></p>\n<p>1. Call Meeting to Ord
 er (Mayor Saxton)</p>\n<p>2. Announcement of Absences and/or Remote Ac
 cess</p>\n<p>3. Adoption of Minutes – July 12\, 2019\, Town Council Re
 gular Meeting</p>\n<p>4. Update on the town-wide parking project</p>\n
 <p>5. Discussion of possible building renovations to Town Hall</p>\n<p
 >6. Discussion and Possible Vote on Establishing a Coalition with the 
 Town of Bethany Beach to Petition State Government to Enhance Safety o
 n Delaware Route 1 South of the Indian River Inlet</p>\n<p>7. Discussi
 on regarding the Town Council publishing periodically to residents the
  Community Values found in the Comprehensive Plan</p>\n<p>8. Discussio
 n of Town Code § 145-9 Vision clearance at corners</p>\n<p>9. Public C
 omment Period</p>\n<p>10. Adjournment</p>\n<p>Note: The agenda items\,
  as listed\, may not be considered in sequence. This agenda is subject
  to change to include additional items including executive sessions or
  the deletion of items including executive sessions which arise at the
  time of the meeting. 29 Del.C § 10004(e)(2)</p>\n
URL:https://southbethany.delaware.gov/events/town-council-workshop-mee
 ting-4/
ATTACH:https://southbethany.delaware.gov/events/town-council-workshop-
 meeting-4/
LOCATION:Town Hall\, 402 Evergreen Road\, South Bethany
END:VEVENT
END:VCALENDAR
