BEGIN:VCALENDAR
VERSION:2.0
METHOD:PUBLISH
PRODID:-//hacksw/handcal//NONSGML v1.0//EN
BEGIN:VEVENT
DTSTAMP:20260424T220055Z
DTSTART:20260519T140000Z
DTEND:20260519T160000Z
UID:20260519T140000Z-20260519T160000Z-6057@southbethany.delaware.gov
SUMMARY:Town Council Organizational Meeting
DESCRIPTION:
X-ALT-DESC;FMTTYPE=text/html:
URL:https://southbethany.delaware.gov/events/town-council-organization
 al-meeting-8/?lang=en
ATTACH:https://southbethany.delaware.gov/events/town-council-organizat
 ional-meeting-8/?lang=en
LOCATION:South Bethany Town Hall\, 402 Evergreen Road\, South Bethany
END:VEVENT
END:VCALENDAR
