BEGIN:VCALENDAR
VERSION:2.0
METHOD:PUBLISH
PRODID:-//hacksw/handcal//NONSGML v1.0//EN
BEGIN:VEVENT
DTSTAMP:20260425T143734Z
DTSTART:20161008T030000Z
DTEND:20161008T040000Z
UID:20161008T030000Z-20161008T040000Z-60@southbethany.delaware.gov
SUMMARY:Canal Water Quality Committee Meeting
DESCRIPTION:Agenda - October 7\, 2016\, Canal Water Quality Committee 
 Meeting
X-ALT-DESC;FMTTYPE=text/html:<p><a href=http://southbethany.delaware.g
 ov/files/2018/11/Agenda-October-7-2016-Canal-Water-Quality-Committee-M
 eeting.pdf>Agenda &#8211\; October 7\, 2016\, Canal Water Quality Comm
 ittee Meeting</a></p>\n
URL:https://southbethany.delaware.gov/events/60/canal-water-quality-co
 mmittee-meeting/
ATTACH:https://southbethany.delaware.gov/events/60/canal-water-quality
 -committee-meeting/
LOCATION:Town Hall\, 402 Evergreen Road\, South Bethany
END:VEVENT
END:VCALENDAR
