BEGIN:VCALENDAR
VERSION:2.0
METHOD:PUBLISH
PRODID:-//hacksw/handcal//NONSGML v1.0//EN
BEGIN:VEVENT
DTSTAMP:20260424T190027Z
DTSTART;VALUE=DATE:20261126
DTEND;VALUE=DATE:20261127
UID:20261126T050000Z-20261127T045959Z-5999@southbethany.delaware.gov
SUMMARY:Town Hall CLOSED - Thanksgiving
DESCRIPTION:
X-ALT-DESC;FMTTYPE=text/html:
URL:https://southbethany.delaware.gov/events/town-hall-closed-thanksgi
 ving-11/?lang=en
ATTACH:https://southbethany.delaware.gov/events/town-hall-closed-thank
 sgiving-11/?lang=en
LOCATION:South Bethany Town Hall\, 402 Evergreen Road\, South Bethany
END:VEVENT
END:VCALENDAR
