BEGIN:VCALENDAR
VERSION:2.0
METHOD:PUBLISH
PRODID:-//hacksw/handcal//NONSGML v1.0//EN
BEGIN:VEVENT
DTSTAMP:20260424T205131Z
DTSTART:20260508T140000Z
DTEND:20260508T160000Z
UID:20260508T140000Z-20260508T160000Z-5990@southbethany.delaware.gov
SUMMARY:Town Council Meeting
DESCRIPTION:The Town of South Bethany will also be holding this meetin
 g as a Zoom teleconference. For details on how to attend via Zoom\, pl
 ease see the agenda when it is posted.
X-ALT-DESC;FMTTYPE=text/html:<p><strong>The Town of South Bethany will
  also be holding this meeting as a Zoom teleconference. For details on
  how to attend via Zoom\, please see the agenda when it is posted.</st
 rong></p>\n
URL:https://southbethany.delaware.gov/events/town-council-meeting-52/?
 lang=en
ATTACH:https://southbethany.delaware.gov/events/town-council-meeting-5
 2/?lang=en
LOCATION:South Bethany Town Hall\, 402 Evergreen Road\, South Bethany
END:VEVENT
END:VCALENDAR
