BEGIN:VCALENDAR
VERSION:2.0
METHOD:PUBLISH
PRODID:-//hacksw/handcal//NONSGML v1.0//EN
BEGIN:VEVENT
DTSTAMP:20260424T185158Z
DTSTART:20260410T140000Z
DTEND:20260410T160000Z
UID:20260410T140000Z-20260410T160000Z-5987@southbethany.delaware.gov
SUMMARY:Town Council Meeting
DESCRIPTION:This audio recording is posted as a courtesy to the public
 . Official meeting minutes and audio of all meetings are maintained at
  Town Hall and are available for review by the public by FOIA request.
  \n\nCLICK BELOW – Audio Recording of the April 10\, 2026\, Town Counc
 il Meeting\n\nhttps://soundcloud.com/user-649573725/04-10-26-town-coun
 cil-meeting/s-stobwGfREcq?si=75adf835711f473394d3ab5bf5f557b0&utm_sour
 ce=clipboard&utm_medium=text&utm_campaign=social_sharing\n\nThe Town o
 f South Bethany will also be holding this meeting as a Zoom teleconfer
 ence. For details on how to attend via Zoom\, please see the agenda.\n
 \nAGENDA\n\nMayor's Report\n\nTown Manager's Report\n\nTreasurer's Rep
 ort\n\nTown Committee Reports
X-ALT-DESC;FMTTYPE=text/html:<p><span style=color: #000000\;><strong>T
 his audio recording is posted as a courtesy to the public. Official me
 eting minutes and audio of all meetings are maintained at Town Hall an
 d are available for review by the public by FOIA request. </strong></s
 pan></p>\n<p><span style=color: #000000\;><strong>CLICK BELOW – Audio 
 Recording of the April 10\, 2026\, Town Council Meeting</strong></span
 ></p>\n<p><a href=https://soundcloud.com/user-649573725/04-10-26-town-
 council-meeting/s-stobwGfREcq?si=75adf835711f473394d3ab5bf5f557b0&amp\
 ;utm_source=clipboard&amp\;utm_medium=text&amp\;utm_campaign=social_sh
 aring>https://soundcloud.com/user-649573725/04-10-26-town-council-meet
 ing/s-stobwGfREcq?si=75adf835711f473394d3ab5bf5f557b0&amp\;utm_source=
 clipboard&amp\;utm_medium=text&amp\;utm_campaign=social_sharing</a></p
 >\n<p><span style=color: #000000\;><strong>The Town of South Bethany w
 ill also be holding this meeting as a Zoom teleconference. For details
  on how to attend via Zoom\, please see the agenda.</strong></span></p
 >\n<p><a href=https://southbethany.delaware.gov/files/2026/04/Agenda.4
 .10.26.TC-Regular-Mtg.pdf><strong>AGENDA</strong></a></p>\n<p><a href=
 https://southbethany.delaware.gov/files/2026/04/Mayor_report_04.10.26.
 pdf>Mayor&#8217\;s Report</a></p>\n<p><a href=https://southbethany.del
 aware.gov/files/2026/04/4.10.2026-Manager-and-Departments-Report.pdf>T
 own Manager&#8217\;s Report</a></p>\n<p><a href=https://southbethany.d
 elaware.gov/files/2026/04/FY2026.Treasurer-report.Mar_.pdf>Treasurer&#
 8217\;s Report</a></p>\n<p><a href=https://southbethany.delaware.gov/f
 iles/2026/04/04.10.26-Committee-Reports.pdf>Town Committee Reports</a>
 </p>\n
URL:https://southbethany.delaware.gov/events/town-council-meeting-51/?
 lang=en
ATTACH:https://southbethany.delaware.gov/events/town-council-meeting-5
 1/?lang=en
LOCATION:South Bethany Town Hall\, 402 Evergreen Road\, South Bethany
END:VEVENT
END:VCALENDAR
