BEGIN:VCALENDAR
VERSION:2.0
METHOD:PUBLISH
PRODID:-//hacksw/handcal//NONSGML v1.0//EN
BEGIN:VEVENT
DTSTAMP:20260424T205132Z
DTSTART;VALUE=DATE:20260403
DTEND;VALUE=DATE:20260404
UID:20260403T050000Z-20260404T045959Z-5968@southbethany.delaware.gov
SUMMARY:Town Hall CLOSED - Good Friday
DESCRIPTION:
X-ALT-DESC;FMTTYPE=text/html:
URL:https://southbethany.delaware.gov/events/town-hall-closed-good-fri
 day-5/?lang=en
ATTACH:https://southbethany.delaware.gov/events/town-hall-closed-good-
 friday-5/?lang=en
LOCATION:South Bethany Town Hall\, 402 Evergreen Road\, South Bethany
END:VEVENT
END:VCALENDAR
