BEGIN:VCALENDAR
VERSION:2.0
METHOD:PUBLISH
PRODID:-//hacksw/handcal//NONSGML v1.0//EN
BEGIN:VEVENT
DTSTAMP:20260425T143743Z
DTSTART:20170810T150000Z
DTEND:20170810T160000Z
UID:20170810T150000Z-20170810T160000Z-55@southbethany.delaware.gov
SUMMARY:Canal Water Quality Committee Meeting
DESCRIPTION:Agenda-August-10-2017-Canal-Water-Quality-Committee-Meetin
 g.pdf
X-ALT-DESC;FMTTYPE=text/html:<p><a href=http://southbethany.delaware.g
 ov/files/2018/11/Agenda-August-10-2017-Canal-Water-Quality-Committee-M
 eeting.pdf>Agenda-August-10-2017-Canal-Water-Quality-Committee-Meeting
 .pdf</a></p>\n
URL:https://southbethany.delaware.gov/events/55/canal-water-quality-co
 mmittee-meeting/
ATTACH:https://southbethany.delaware.gov/events/55/canal-water-quality
 -committee-meeting/
LOCATION:Town Hall\, 402 Evergreen Road\, South Bethany
END:VEVENT
END:VCALENDAR
