BEGIN:VCALENDAR
VERSION:2.0
METHOD:PUBLISH
PRODID:-//hacksw/handcal//NONSGML v1.0//EN
BEGIN:VEVENT
DTSTAMP:20260425T033745Z
DTSTART:20180616T030000Z
DTEND:20180616T045300Z
UID:20180616T030000Z-20180616T045300Z-49@southbethany.delaware.gov
SUMMARY:Canal Water Quality Committee Meeting
DESCRIPTION:Agenda - June 15\, 2018\, Canal Water Quality Committee Me
 eting
X-ALT-DESC;FMTTYPE=text/html:<p><a href=http://southbethany.delaware.g
 ov/files/2018/11/Agenda-June-15-2018-Canal-Water-Quality-Committee-Mee
 ting.pdf target=_blank rel=noopener>Agenda &#8211\; June 15\, 2018\, C
 anal Water Quality Committee Meeting</a></p>\n
URL:https://southbethany.delaware.gov/events/49/canal-water-quality-co
 mmittee-meeting/
ATTACH:https://southbethany.delaware.gov/events/49/canal-water-quality
 -committee-meeting/
LOCATION:Town Hall\, 402 Evergreen Road\, South Bethany
END:VEVENT
END:VCALENDAR
