BEGIN:VCALENDAR
VERSION:2.0
METHOD:PUBLISH
PRODID:-//hacksw/handcal//NONSGML v1.0//EN
BEGIN:VEVENT
DTSTAMP:20260425T115525Z
DTSTART:20190425T150000Z
DTEND:20190425T170000Z
UID:20190425T150000Z-20190425T170000Z-358@southbethany.delaware.gov
SUMMARY:Communications and Public Relations Committee Meeting
DESCRIPTION:Click or tap to open the following PDF:\n\nAgenda - April 
 25\, 2019\, Communications and Public Relations Committee Meeting
X-ALT-DESC;FMTTYPE=text/html:<p><strong>Click or tap to open the follo
 wing PDF:</strong></p>\n<p><strong><a href=https://southbethany.delawa
 re.gov/files/2019/04/Agenda-April-25-2019-Communications-and-Public-Re
 lations-Committee-Meeting.pdf target=_blank rel=noopener>Agenda &#8211
 \; April 25\, 2019\, Communications and Public Relations Committee Mee
 ting</a></strong></p>\n
URL:https://southbethany.delaware.gov/events/communications-and-public
 -relations-committee-meeting/?lang=en
ATTACH:https://southbethany.delaware.gov/events/communications-and-pub
 lic-relations-committee-meeting/?lang=en
LOCATION:Town Hall\, 402 Evergreen Road\, South Bethany
END:VEVENT
END:VCALENDAR
