BEGIN:VCALENDAR
VERSION:2.0
METHOD:PUBLISH
PRODID:-//hacksw/handcal//NONSGML v1.0//EN
BEGIN:VEVENT
DTSTAMP:20260425T014554Z
DTSTART:20190422T143000Z
DTEND:20190422T154500Z
UID:20190422T143000Z-20190422T154500Z-352@southbethany.delaware.gov
SUMMARY:Community Enhancement Committee Meeting
DESCRIPTION:Click or tap to open the following PDFs:\n\nCEC Meeting 4-
 22-19 Final Summary\n\nAgenda - April 22\, 2019\, Community Enhancemen
 t Committee Meeting
X-ALT-DESC;FMTTYPE=text/html:<p><strong>Click or tap to open the follo
 wing PDFs:</strong></p>\n<p><a href=https://southbethany.delaware.gov/
 files/2019/07/CEC-Meeting-4-22-19-Final-Summary.pdf target=_blank rel=
 noopener><strong>CEC Meeting 4-22-19 Final Summary</strong></a></p>\n<
 p><a href=https://southbethany.delaware.gov/files/2019/04/Agenda-April
 -22-2019-Community-Enhancement-Committee-Meeting.pdf target=_blank rel
 =noopener><strong>Agenda &#8211\; April 22\, 2019\, Community Enhancem
 ent Committee Meeting</strong></a></p>\n
URL:https://southbethany.delaware.gov/events/community-enhancement-com
 mittee-meeting/
ATTACH:https://southbethany.delaware.gov/events/community-enhancement-
 committee-meeting/
LOCATION:Town Hall\, 402 Evergreen Road\, South Bethany
END:VEVENT
END:VCALENDAR
