BEGIN:VCALENDAR
VERSION:2.0
METHOD:PUBLISH
PRODID:-//hacksw/handcal//NONSGML v1.0//EN
BEGIN:VEVENT
DTSTAMP:20260425T115526Z
DTSTART:20190409T160000Z
DTEND:20190409T185300Z
UID:20190409T160000Z-20190409T185300Z-328@southbethany.delaware.gov
SUMMARY:Town Council Special Meeting
DESCRIPTION:April 9\, 2019\, Town Council Special Meeting Minutes\n\nA
 pril 9\, 2019 Special Meeting
X-ALT-DESC;FMTTYPE=text/html:<p><a href=https://southbethany.delaware.
 gov/files/2019/04/April-9-2019-Town-Council-Special-Meeting-Minutes.pd
 f target=_blank rel=noopener>April 9\, 2019\, Town Council Special Mee
 ting Minutes</a></p>\n<p><a href=https://southbethany.delaware.gov/fil
 es/2019/04/April-9-2019-Special-Meeting.pdf>April 9\, 2019 Special Mee
 ting</a></p>\n
URL:https://southbethany.delaware.gov/events/town-council-special-meet
 ing/?lang=en
ATTACH:https://southbethany.delaware.gov/events/town-council-special-m
 eeting/?lang=en
LOCATION:Town Hall\, 402 Evergreen Road\, South Bethany
END:VEVENT
END:VCALENDAR
