BEGIN:VCALENDAR
VERSION:2.0
METHOD:PUBLISH
PRODID:-//hacksw/handcal//NONSGML v1.0//EN
BEGIN:VEVENT
DTSTAMP:20210511T214642Z
DTSTART:20170313T200000Z
DTEND:20170313T233100Z
UID:20170313T200000Z-20170313T233100Z-29@southbethany.delaware.gov
SUMMARY:Budget & Finance Committee Meeting
DESCRIPTION:Agenda - Mar 13 2017 Budget and Finance Committee Meeting
X-ALT-DESC;FMTTYPE=text/html:<p><a href=http://southbethany.delaware.g
 ov/files/2018/11/Agenda-Mar-13-2017-Budget-and-Finance-Committee-Meeti
 ng.pdf>Agenda &#8211\; Mar 13 2017 Budget and Finance Committee Meetin
 g</a></p>\n
URL:https://southbethany.delaware.gov/events/29/budget-finance-committ
 ee-meeting/
ATTACH:https://southbethany.delaware.gov/events/29/budget-finance-comm
 ittee-meeting/
LOCATION:Town Hall\, 402 Evergreen Road\, South Bethany
END:VEVENT
END:VCALENDAR
