BEGIN:VCALENDAR
VERSION:2.0
METHOD:PUBLISH
PRODID:-//hacksw/handcal//NONSGML v1.0//EN
BEGIN:VEVENT
DTSTAMP:20260425T034045Z
DTSTART:20211220T180000Z
DTEND:20211220T200000Z
UID:20211220T180000Z-20211220T200000Z-2574@southbethany.delaware.gov
SUMMARY:Canal Water Quality Committee CANCELLED
DESCRIPTION:This meeting has been cancelled.
X-ALT-DESC;FMTTYPE=text/html:<p>This meeting has been cancelled.</p>\n
URL:https://southbethany.delaware.gov/events/canal-water-quality-commi
 ttee-3/
ATTACH:https://southbethany.delaware.gov/events/canal-water-quality-co
 mmittee-3/
LOCATION:South Bethany Town Hall\, 402 Evergreen Road\, South Bethany
END:VEVENT
END:VCALENDAR
