BEGIN:VCALENDAR
VERSION:2.0
METHOD:PUBLISH
PRODID:-//hacksw/handcal//NONSGML v1.0//EN
BEGIN:VEVENT
DTSTAMP:20260425T140528Z
DTSTART:20210910T150000Z
DTEND:20210910T173000Z
UID:20210910T150000Z-20210910T173000Z-2524@southbethany.delaware.gov
SUMMARY:Town Council Regular Meeting
DESCRIPTION:9.10.21FINALTCMeetingMinutes(w)\n\nAgenda.9.10.21.TC Regul
 ar Meeting\n\nSecondReading.Chapter42.9.10.21\n\nResolution No. 7-21 S
 chedule of Fees 9.10.21\n\nResolution 4-21 Don Boteler\n\nResolution 5
 -21 Carol Stevenson\n\nResolution 6-21 Frank WeisgerberSecondReading.C
 hapter42.9.10.21\n\nMayor Report - September 2021\n\nMgr and Departmen
 t Reports.Sept 10 2021\n\nMgr Report Attachment.Sept Code Enforcement 
 Report\n\nMgr Report Attachment.Sept Beach Patrol Report\n\nSBCC commi
 ttee report_for Sept 10th 2021\n\nCEC TC Meeting Report 9-10-21\n\nMgr
  Report Attachment.Sept Code Enforcement Report\n\nFY2022aug21.Treasur
 er report\n\n 
X-ALT-DESC;FMTTYPE=text/html:<p><a href=https://southbethany.delaware.
 gov/files/2021/10/9.10.21FINALTCMeetingMinutesw.pdf>9.10.21FINALTCMeet
 ingMinutes(w)</a></p>\n<p><a href=https://southbethany.delaware.gov/fi
 les/2021/09/Agenda.9.10.21.TC-Regular-Meeting-1.pdf>Agenda.9.10.21.TC 
 Regular Meeting</a></p>\n<p><a href=https://southbethany.delaware.gov/
 files/2021/09/SecondReading.Chapter42.9.10.21.pdf>SecondReading.Chapte
 r42.9.10.21</a></p>\n<p><a href=https://southbethany.delaware.gov/file
 s/2021/09/Resolution-No.-7-21-Schedule-of-Fees-9.10.21.pdf>Resolution 
 No. 7-21 Schedule of Fees 9.10.21</a></p>\n<p><a href=https://southbet
 hany.delaware.gov/files/2021/09/Resolution-4-21-Don-Boteler.pdf>Resolu
 tion 4-21 Don Boteler</a></p>\n<p><a href=https://southbethany.delawar
 e.gov/files/2021/09/Resolution-5-21-Carol-Stevenson.pdf>Resolution 5-2
 1 Carol Stevenson</a></p>\n<p><a href=https://southbethany.delaware.go
 v/files/2021/09/Resolution-6-21-Frank-Weisgerber.pdf>Resolution 6-21 F
 rank Weisgerber</a><a href=https://southbethany.delaware.gov/files/202
 1/09/SecondReading.Chapter42.9.10.21-1.pdf>SecondReading.Chapter42.9.1
 0.21</a></p>\n<p><a href=https://southbethany.delaware.gov/files/2021/
 09/Mayor-Report-September-2021.pdf>Mayor Report &#8211\; September 202
 1</a></p>\n<p><a href=https://southbethany.delaware.gov/files/2021/09/
 Mgr-and-Department-Reports.Sept-10-2021.pdf>Mgr and Department Reports
 .Sept 10 2021</a></p>\n<p><a href=https://southbethany.delaware.gov/fi
 les/2021/09/Mgr-Report-Attachment.Sept-Code-Enforcement-Report-1.pdf>M
 gr Report Attachment.Sept Code Enforcement Report</a></p>\n<p><a href=
 https://southbethany.delaware.gov/files/2021/09/Mgr-Report-Attachment.
 Sept-Beach-Patrol-Report.pdf>Mgr Report Attachment.Sept Beach Patrol R
 eport</a></p>\n<p><a href=https://southbethany.delaware.gov/files/2021
 /09/SBCC-committee-report_for-Sept-10th-2021.pdf>SBCC committee report
 _for Sept 10th 2021</a></p>\n<p><a href=https://southbethany.delaware.
 gov/files/2021/09/CEC-TC-Meeting-Report-9-10-21.pdf>CEC TC Meeting Rep
 ort 9-10-21</a></p>\n<p><a href=https://southbethany.delaware.gov/file
 s/2021/09/Mgr-Report-Attachment.Sept-Code-Enforcement-Report.pdf>Mgr R
 eport Attachment.Sept Code Enforcement Report</a></p>\n<p><a href=http
 s://southbethany.delaware.gov/files/2021/09/FY2022aug21.Treasurer-repo
 rt.pdf>FY2022aug21.Treasurer report</a></p>\n<p>&nbsp\;</p>\n
URL:https://southbethany.delaware.gov/events/town-council-regular-meet
 ing-28/?lang=en
ATTACH:https://southbethany.delaware.gov/events/town-council-regular-m
 eeting-28/?lang=en
END:VEVENT
END:VCALENDAR
