BEGIN:VCALENDAR
VERSION:2.0
METHOD:PUBLISH
PRODID:-//hacksw/handcal//NONSGML v1.0//EN
BEGIN:VEVENT
DTSTAMP:20260425T212134Z
DTSTART:20180921T150000Z
DTEND:20180921T160000Z
UID:20180921T150000Z-20180921T160000Z-245@southbethany.delaware.gov
SUMMARY:Planning Commission Meeting
DESCRIPTION:CANCELED SEPT 21 2018 MEETING\n\nPC Agenda - September 21 
 2018
X-ALT-DESC;FMTTYPE=text/html:<p><a href=https://southbethany.delaware.
 gov/files/2018/12/CANCELED-SEPT-21-2018-MEETING.pdf target=_blank rel=
 noopener>CANCELED SEPT 21 2018 MEETING</a></p>\n<p><a href=https://sou
 thbethany.delaware.gov/files/2018/12/PC-Agenda-September-21-2018.pdf t
 arget=_blank rel=noopener>PC Agenda &#8211\; September 21 2018</a></p>
 \n
URL:https://southbethany.delaware.gov/events/245/planning-commission-m
 eeting/?lang=en
ATTACH:https://southbethany.delaware.gov/events/245/planning-commissio
 n-meeting/?lang=en
LOCATION:Town Hall\, 402 Evergreen Road\, South Bethany
END:VEVENT
END:VCALENDAR
