BEGIN:VCALENDAR
VERSION:2.0
METHOD:PUBLISH
PRODID:-//hacksw/handcal//NONSGML v1.0//EN
BEGIN:VEVENT
DTSTAMP:20260425T212139Z
DTSTART:20181212T143000Z
DTEND:20181212T150000Z
UID:20181212T143000Z-20181212T150000Z-233@southbethany.delaware.gov
SUMMARY:Community Enhancement Committee Meeting
DESCRIPTION:Click or tap to open the following PDFs:\n\nCEC Meeting 12
 -12-18 Final Summary\n\nAgenda - December 12\, 2018\, Community Enhanc
 ement Committee Meeting\nAgenda\n• Announcement of participating CEC M
 embers and acknowledgement of absences\n• Review and Approval of Octob
 er 26\, 2018 CEC Meeting Minutes\n• Comments from CEC members\n• Updat
 e from Department of Public Works-Jon Stiffler\, Public Works\n• 2019 
 50th SB Anniversary Celebration Update – CEC Involvement\n• Developmen
 t 2019 CEC Initiatives and FY20 CEC Budget\n• Adjournment to CEC Annua
 l Holiday Luncheon
X-ALT-DESC;FMTTYPE=text/html:<p><strong>Click or tap to open the follo
 wing PDFs:</strong></p>\n<p><strong><a href=https://southbethany.delaw
 are.gov/files/2019/07/CEC-Meeting-12-12-18-Final-Summary.pdf target=_b
 lank rel=noopener>CEC Meeting 12-12-18 Final Summary</a></strong></p>\
 n<p><strong><a href=https://southbethany.delaware.gov/files/2018/12/Ag
 enda-December-12-2018-Community-Enhancement-Committee-Meeting-1.pdf>Ag
 enda &#8211\; December 12\, 2018\, Community Enhancement Committee Mee
 ting</a></strong></p>\n<p style=text-align: center><strong>Agenda</str
 ong></p>\n<p>•&nbsp\;Announcement of participating CEC Members and ack
 nowledgement of absences<br />\n•&nbsp\;Review and Approval of October
  26\, 2018 CEC Meeting Minutes<br />\n•&nbsp\;Comments from CEC member
 s<br />\n•&nbsp\;Update from Department of Public Works-Jon Stiffler\,
  Public Works<br />\n•&nbsp\;2019 50th SB Anniversary Celebration Upda
 te – CEC Involvement<br />\n•&nbsp\;Development 2019 CEC Initiatives a
 nd FY20 CEC Budget<br />\n•&nbsp\;Adjournment to CEC Annual Holiday Lu
 ncheon</p>\n
URL:https://southbethany.delaware.gov/events/community-enhancement-com
 mittee-meeting-6/?lang=en
ATTACH:https://southbethany.delaware.gov/events/community-enhancement-
 committee-meeting-6/?lang=en
LOCATION:Town Hall\, 402 Evergreen Road\, South Bethany
END:VEVENT
END:VCALENDAR
