BEGIN:VCALENDAR
VERSION:2.0
METHOD:PUBLISH
PRODID:-//hacksw/handcal//NONSGML v1.0//EN
BEGIN:VEVENT
DTSTAMP:20260426T001844Z
DTSTART:20181115T170000Z
DTEND:20181115T231500Z
UID:20181115T170000Z-20181115T231500Z-21@southbethany.delaware.gov
SUMMARY:Budget & Finance Committee Meeting
DESCRIPTION:Agenda - Feb 21 2018 Budget and Finance Committee Meeting
X-ALT-DESC;FMTTYPE=text/html:<p><a href=http://southbethany.delaware.g
 ov/files/2018/11/Agenda-Feb-21-2018-Budget-and-Finance-Committee-Meeti
 ng.pdf>Agenda &#8211\; Feb 21 2018 Budget and Finance Committee Meetin
 g</a></p>\n
URL:https://southbethany.delaware.gov/events/21/budget-finance-committ
 ee-meeting/?lang=en
ATTACH:https://southbethany.delaware.gov/events/21/budget-finance-comm
 ittee-meeting/?lang=en
LOCATION:Town Hall\, 402 Evergreen Road\, South Bethany
END:VEVENT
END:VCALENDAR
