BEGIN:VCALENDAR
VERSION:2.0
METHOD:PUBLISH
PRODID:-//hacksw/handcal//NONSGML v1.0//EN
BEGIN:VEVENT
DTSTAMP:20210927T051140Z
DTSTART:20210609T170000Z
DTEND:20210609T200000Z
UID:20210609T170000Z-20210609T200000Z-2066@southbethany.delaware.gov
SUMMARY:Board of Adjustment Public Hearings #3-21 & #4-21
DESCRIPTION:In accordance with Governor Carney’s Proclamation No. 17-3
 292 and Declaration of a State of Emergency\, as amended\, the Town of
  South Bethany is only holding this meeting as a GoToMeeting teleconfe
 rence. Please see the agenda for details on how to attend via GoToMeet
 ing.\n\nPUBLIC HEARING NOTICE FOR #3-21\n\nPUBLIC HEARING NOTICE FOR #
 4-21\n\nAGENDA - PLEASE NOTE: THE BOARD REVIEW WILL BE AT 12 P.M. NOON
 \, BUT THE ACTUAL BOA HEARINGS WILL NOT START UNTIL 1 P.M. If you only
  want to attend the BOA case hearings for Stratton & Luhde\, please do
  not log in until 1 p.m.\n\n 
X-ALT-DESC;FMTTYPE=text/html:<p><strong>In accordance with Governor Ca
 rney’s Proclamation No. 17-3292 and Declaration of a State of Emergenc
 y\, as amended\, the Town of South Bethany is only holding this meetin
 g as a GoToMeeting teleconference. Please see the agenda for details o
 n how to attend via GoToMeeting.</strong></p>\n<p><a href=https://sout
 hbethany.delaware.gov/files/2021/05/BOA-PUBLIC-HEARING-NOTICE-STRATTON
 .pdf><strong>PUBLIC HEARING NOTICE FOR #3-21</strong></a></p>\n<p><a h
 ref=https://southbethany.delaware.gov/files/2021/05/BOA-PUBLIC-HEARING
 -NOTICE-LUHDE.pdf><strong>PUBLIC HEARING NOTICE FOR #4-21</strong></a>
 </p>\n<p><a href=https://southbethany.delaware.gov/files/2021/06/BOA-A
 GENDA-June-9-2021.pdf><strong>AGENDA</strong></a><strong> &#8211\; <sp
 an style=text-decoration: underline>PLEASE NOTE: THE BOARD REVIEW WILL
  BE AT 12 P.M. NOON\, BUT THE ACTUAL BOA HEARINGS WILL NOT START UNTIL
  1 P.M. If you only want to attend the BOA case hearings for Stratton 
 &amp\; Luhde\, please do not log in until 1 p.m.</span></strong></p>\n
 <p>&nbsp\;</p>\n
URL:https://southbethany.delaware.gov/events/board-of-adjustment-publi
 c-hearings-3-21-4-21/
ATTACH:https://southbethany.delaware.gov/events/board-of-adjustment-pu
 blic-hearings-3-21-4-21/
LOCATION:South Bethany\, DE\, \,
END:VEVENT
END:VCALENDAR
