BEGIN:VCALENDAR
VERSION:2.0
METHOD:PUBLISH
PRODID:-//hacksw/handcal//NONSGML v1.0//EN
BEGIN:VEVENT
DTSTAMP:20260425T115524Z
DTSTART:20180710T190000Z
DTEND:20180710T231300Z
UID:20180710T190000Z-20180710T231300Z-20@southbethany.delaware.gov
SUMMARY:Budget & Finance Committee Meeting
DESCRIPTION:Agenda - July 10 2018 Budget and Finance Committee Meeting
X-ALT-DESC;FMTTYPE=text/html:<p><a href=http://southbethany.delaware.g
 ov/files/2018/11/Agenda-July-10-2018-Budget-and-Finance-Committee-Meet
 ing.pdf>Agenda &#8211\; July 10 2018 Budget and Finance Committee Meet
 ing</a></p>\n
URL:https://southbethany.delaware.gov/events/20/budget-finance-committ
 ee-meeting/?lang=en
ATTACH:https://southbethany.delaware.gov/events/20/budget-finance-comm
 ittee-meeting/?lang=en
LOCATION:Town Hall\, 402 Evergreen Road\, South Bethany
END:VEVENT
END:VCALENDAR
