BEGIN:VCALENDAR
VERSION:2.0
METHOD:PUBLISH
PRODID:-//hacksw/handcal//NONSGML v1.0//EN
BEGIN:VEVENT
DTSTAMP:20260425T212138Z
DTSTART:20190412T230000Z
DTEND:20190413T000000Z
UID:20190412T230000Z-20190413T000000Z-194@southbethany.delaware.gov
SUMMARY:Town Council Meeting
DESCRIPTION:Click or tap to open the following PDFs:\n\nApril 12\, 201
 9\, Town Council Regular Meeting Minutes\n\nResolution 2-19 to Set the
  FY 2020 Property Tax Rate and Rental Tax Rate\n\nAgenda - April 12\, 
 2019\, Town Council Regular Meeting\n\nLeadership and Committee Report
 s - April 12\, 2019\, Town Council Regular Meeting\nAGENDA\n1. Meeting
  Called to Order and Pledge to the Flag\nA. Announcement of Absences a
 nd Participation by Remote Access\n\n2. Police Department Personnel Ch
 anges\nA. Retirement of Chief Crowson\nB. Formal Promotion of Sergeant
  Patrick Wiley\n\n3. Adoption of Minutes\nA. March 8\, 2019\, Town Cou
 ncil Regular Meeting\nB. March 8\, 2019\, Town Council Executive Sessi
 on\nC. March 28\, 2019 Town Council Workshop\n\n4. Discussion and poss
 ible vote to adopt Resolution 1-19\, Revised Schedule of Fees.\n\n5. D
 iscussion and possible vote on Resolution 2-19\, set the FY 2020 Prope
 rty Tax and Rental Tax Rates\n\n6. Vote to Approve FY 2020 Budget\n\n7
 . Discussion and possible vote on Police Service Assistance Agreement 
 between the Town of South Bethany and the Town of Ocean View\n\n8. Dis
 cussion and possible vote on police service assistance from the Delawa
 re State Police\n\n9. Discussion and possible vote to revise or elimin
 ate formal Rules of Procedure\n\n10. Discussion and possible vote to a
 ppoint Planning Commission Members\n\n11. Leadership Reports\nA. Mayor
 's Report\nB. Town Manager's Report\nC. Treasurer's Report\n\n12. Comm
 ittee and Commission Reports\nA. Budget and Finance Committee\nB. Cana
 l Water Quality Committee\nC. Charter and Code Committee\nD. Communica
 tions and Public Relations Committee\nE. Community Enhancement Committ
 ee\n\n13. Public Comment (3-minute limit per speaker)\n\n14. Adjournme
 nt\n\nNote: The agenda items\, as listed\, may not be considered in se
 quence. This agenda is subject to change to include additional items i
 ncluding executive sessions or the deletion of items including executi
 ve sessions which arise at the time of the meeting. 29 Del.C § 10004(e
 )(2)
X-ALT-DESC;FMTTYPE=text/html:<p><strong>Click or tap to open the follo
 wing PDFs:</strong></p>\n<p><a href=https://southbethany.delaware.gov/
 files/2019/05/April-12-2019-Town-Council-Regular-Meeting-Minutes.pdf t
 arget=_blank rel=noopener><strong>April 12\, 2019\, Town Council Regul
 ar Meeting Minutes</strong></a></p>\n<p><a href=https://southbethany.d
 elaware.gov/files/2019/04/Resolution-2-19-to-Set-the-FY-2020-Property-
 Tax-Rate-and-Rental-Tax-Rate.pdf target=_blank rel=noopener><strong>Re
 solution 2-19 to Set the FY 2020 Property Tax Rate and Rental Tax Rate
 </strong></a></p>\n<p><strong><a href=https://southbethany.delaware.go
 v/files/2019/04/Agenda-April-12-2019-Town-Council-Regular-Meeting.pdf 
 target=_blank rel=noopener>Agenda &#8211\; April 12\, 2019\, Town Coun
 cil Regular Meeting</a></strong></p>\n<p><a href=https://southbethany.
 delaware.gov/files/2019/04/Leadership-and-Committee-Reports-April-12-2
 019-Town-Council-Regular-Meeting.pdf target=_blank rel=noopener><stron
 g>Leadership and Committee Reports &#8211\; April 12\, 2019\, Town Cou
 ncil Regular Meeting</strong></a></p>\n<p style=text-align: center><st
 rong>AGENDA</strong></p>\n<p>1. Meeting Called to Order and Pledge to 
 the Flag<br />\nA. Announcement of Absences and Participation by Remot
 e Access</p>\n<p>2. Police Department Personnel Changes<br />\nA. Reti
 rement of Chief Crowson<br />\nB. Formal Promotion of Sergeant Patrick
  Wiley</p>\n<p>3. Adoption of Minutes<br />\nA. March 8\, 2019\, Town 
 Council Regular Meeting<br />\nB. March 8\, 2019\, Town Council Execut
 ive Session<br />\nC. March 28\, 2019 Town Council Workshop</p>\n<p>4.
  Discussion and possible vote to adopt Resolution 1-19\, Revised Sched
 ule of Fees.</p>\n<p>5. Discussion and possible vote on Resolution 2-1
 9\, set the FY 2020 Property Tax and Rental Tax Rates</p>\n<p>6. Vote 
 to Approve FY 2020 Budget</p>\n<p>7. Discussion and possible vote on P
 olice Service Assistance Agreement between the Town of South Bethany a
 nd the Town of Ocean View</p>\n<p>8. Discussion and possible vote on p
 olice service assistance from the Delaware State Police</p>\n<p>9. Dis
 cussion and possible vote to revise or eliminate formal Rules of Proce
 dure</p>\n<p>10. Discussion and possible vote to appoint Planning Comm
 ission Members</p>\n<p>11. Leadership Reports<br />\nA. Mayor&#8217\;s
  Report<br />\nB. Town Manager&#8217\;s Report<br />\nC. Treasurer&#82
 17\;s Report</p>\n<p>12. Committee and Commission Reports<br />\nA. Bu
 dget and Finance Committee<br />\nB. Canal Water Quality Committee<br 
 />\nC. Charter and Code Committee<br />\nD. Communications and Public 
 Relations Committee<br />\nE. Community Enhancement Committee</p>\n<p>
 13. Public Comment (3-minute limit per speaker)</p>\n<p>14. Adjournmen
 t</p>\n<p>Note: The agenda items\, as listed\, may not be considered i
 n sequence. This agenda is subject to change to include additional ite
 ms including executive sessions or the deletion of items including exe
 cutive sessions which arise at the time of the meeting. 29 Del.C § 100
 04(e)(2)</p>\n
URL:https://southbethany.delaware.gov/events/town-council-meeting/?lan
 g=en
ATTACH:https://southbethany.delaware.gov/events/town-council-meeting/?
 lang=en
LOCATION:Town Hall\, 402 Evergreen Road\, South Bethany
END:VEVENT
END:VCALENDAR
