BEGIN:VCALENDAR
VERSION:2.0
METHOD:PUBLISH
PRODID:-//hacksw/handcal//NONSGML v1.0//EN
BEGIN:VEVENT
DTSTAMP:20210503T173752Z
DTSTART:20190328T200000Z
DTEND:20190328T221800Z
UID:20190328T200000Z-20190328T221800Z-193@southbethany.delaware.gov
SUMMARY:Town Council Budget Workshop Meeting
DESCRIPTION:Click or tap to open the following PDF(s):\n\nMarch 28\, 2
 019\, Town Council Budget Workshop Meeting Minutes\n\nRevised Agenda -
  March 28\, 2019\, Town Council Budget Workshop Meeting\nAgenda\n\n1. 
 Call Meeting to Order (Mayor Saxton)\n2. Announcement of Absences and/
 or Remote Access\n\n3. Adoption of Minutes\nA. February 28\, 2019\, To
 wn Council Budget Workshop Meeting\nB. March 8\, 2019\, Public Meeting
  on FY 2020 Draft Budget\nC. March 8\, 2019\, Town Council Regular Mee
 ting\nD. March 8\, 2019\, Town Council Executive Session\n\n4. Adminis
 trative Matters\nA. Discussion and possible vote on the approval of a 
 2019 Election Worker and an Alternate\n\n5. Discussion and possible vo
 te on Sharp Energy\, Inc. contract\n\n6. Discussion and possible vote 
 on Envirotech contract for South Bethany canal monitoring and maintena
 nce\n\n7. Discussion on draft ordinance regarding bonfires on the beac
 h\n\n8. Update on the review of the commercial sign ordinance regardin
 g electronic/illuminated signs (Town Code § 145-33 Commercial signs)\n
 \n9. Discussion and possible vote on progress to provide additional po
 lice coverage pending hiring and training of new officers\n\n10. Sched
 ule of Fees - Discussion and possible vote to adopt Resolution 1-19\, 
 A Resolution to Revise South Bethany’s Schedule of Fees\n\n11 FY2020 (
 May 1\, 2019 to April 30\, 2020) Draft Budget Review to include discus
 sion and possible vote on any line item proposed for the FY 2020 Budge
 t\n\n12. Public Comment Period\n\n13. Adjournment\n\nNote: The agenda 
 items\, as listed\, may not be considered in sequence. This agenda is 
 subject to change to include additional items including executive sess
 ions or the deletion of items including executive sessions which arise
  at the time of the meeting. 29 Del.C § 10004(e)(2)\n\nRevised & Poste
 d 3/25/19 to add Item 3B March 8\, 2019\, Public Meeting on FY 2020 Dr
 aft Budget. The Administrative Assistant inadvertently left this item 
 off the agenda at the time of the original posting.
X-ALT-DESC;FMTTYPE=text/html:<p><strong>Click or tap to open the follo
 wing PDF(s):</strong></p>\n<p><a href=https://southbethany.delaware.go
 v/files/2019/04/March-28-2019-Town-Council-Budget-Workshop-Meeting-Min
 utes.pdf target=_blank rel=noopener><strong>March 28\, 2019\, Town Cou
 ncil Budget Workshop Meeting Minutes</strong></a></p>\n<p><a href=http
 s://southbethany.delaware.gov/files/2019/03/Revised-Agenda-March-28-20
 19-Town-Council-Budget-Workshop-Meeting.pdf target=_blank rel=noopener
 ><strong>Revised Agenda &#8211\; March 28\, 2019\, Town Council Budget
  Workshop Meeting</strong></a></p>\n<p style=text-align: center><stron
 g>Agenda<br />\n</strong></p>\n<p style=text-align: left>1. Call Meeti
 ng to Order (Mayor Saxton)</p>\n<p>2. Announcement of Absences and/or 
 Remote Access</p>\n<p>3. Adoption of Minutes<br />\nA. February 28\, 2
 019\, Town Council Budget Workshop Meeting<br />\nB. March 8\, 2019\, 
 Public Meeting on FY 2020 Draft Budget<br />\nC. March 8\, 2019\, Town
  Council Regular Meeting<br />\nD. March 8\, 2019\, Town Council Execu
 tive Session</p>\n<p>4. Administrative Matters<br />\nA. Discussion an
 d possible vote on the approval of a 2019 Election Worker and an Alter
 nate</p>\n<p>5. Discussion and possible vote on Sharp Energy\, Inc. co
 ntract</p>\n<p>6. Discussion and possible vote on Envirotech contract 
 for South Bethany canal monitoring and maintenance</p>\n<p>7. Discussi
 on on draft ordinance regarding bonfires on the beach</p>\n<p>8. Updat
 e on the review of the commercial sign ordinance regarding electronic/
 illuminated signs (Town Code § 145-33 Commercial signs)</p>\n<p>9. Dis
 cussion and possible vote on progress to provide additional police cov
 erage pending hiring and training of new officers</p>\n<p>10. Schedule
  of Fees &#8211\; Discussion and possible vote to adopt Resolution 1-1
 9\, A Resolution to Revise South Bethany’s Schedule of Fees</p>\n<p>11
  FY2020 (May 1\, 2019 to April 30\, 2020) Draft Budget Review to inclu
 de discussion and possible vote on any line item proposed for the FY 2
 020 Budget</p>\n<p>12. Public Comment Period</p>\n<p>13. Adjournment</
 p>\n<p>Note: The agenda items\, as listed\, may not be considered in s
 equence. This agenda is subject to change to include additional items 
 including executive sessions or the deletion of items including execut
 ive sessions which arise at the time of the meeting. 29 Del.C § 10004(
 e)(2)</p>\n<p><span style=color: #ff0000>Revised &amp\; Posted 3/25/19
  to add Item 3B March 8\, 2019\, Public Meeting on FY 2020 Draft Budge
 t. The Administrative Assistant inadvertently left this item off the a
 genda at the time of the original posting.</span></p>\n
URL:https://southbethany.delaware.gov/events/town-council-budget-works
 hop-meeting-2/
ATTACH:https://southbethany.delaware.gov/events/town-council-budget-wo
 rkshop-meeting-2/
LOCATION:Town Hall\, 402 Evergreen Road\, South Bethany
END:VEVENT
END:VCALENDAR
