BEGIN:VCALENDAR
VERSION:2.0
METHOD:PUBLISH
PRODID:-//hacksw/handcal//NONSGML v1.0//EN
BEGIN:VEVENT
DTSTAMP:20260425T143738Z
DTSTART:20190308T220000Z
DTEND:20190308T230000Z
UID:20190308T220000Z-20190308T230000Z-191@southbethany.delaware.gov
SUMMARY:Public Meeting on FY2020 Draft Budget
DESCRIPTION:Click or tap to open the following PDFS:\n\nMarch 8\, 2019
 \, Public Meeting on FY2020 Draft Budget Minutes\n\nAttachment to Marc
 h 8\, 2019\, Public Meeting on FY2020 Draft Budget Minutes - PowerPoin
 t Presentation\nAgenda\n1. Meeting Called to Order (Mayor Saxton)\n\n2
 . Announcement of Absences and Participation by Remote Access\n\n3. Re
 marks (Don Boteler)\n\n4. Presentation of FY 2020 Draft Budget (Don Bo
 teler and Renee McDorman)\n\n5. Public Comment Period for FY 2020 Draf
 t Budget\n\n6. Adjourn Public Meeting on FY 2020 Draft Budget
X-ALT-DESC;FMTTYPE=text/html:<p><strong>Click or tap to open the follo
 wing PDFS:</strong></p>\n<p><a href=https://southbethany.delaware.gov/
 files/2019/03/March-8-2019-Public-Meeting-on-FY2020-Draft-Budget-Minut
 es.pdf target=_blank rel=noopener><strong>March 8\, 2019\, Public Meet
 ing on FY2020 Draft Budget Minutes</strong></a></p>\n<p><strong><a hre
 f=https://southbethany.delaware.gov/files/2019/03/Attachment-to-March-
 8-2019-Public-Meeting-on-FY2020-Draft-Budget-Minutes-PowerPoint-Presen
 tation.pdf target=_blank rel=noopener>Attachment to March 8\, 2019\, P
 ublic Meeting on FY2020 Draft Budget Minutes &#8211\; PowerPoint Prese
 ntation</a></strong></p>\n<p style=text-align: center><strong>Agenda</
 strong></p>\n<p>1. Meeting Called to Order (Mayor Saxton)</p>\n<p>2. A
 nnouncement of Absences and Participation by Remote Access</p>\n<p>3. 
 Remarks (Don Boteler)</p>\n<p>4. Presentation of FY 2020 Draft Budget 
 (Don Boteler and Renee McDorman)</p>\n<p>5. Public Comment Period for 
 FY 2020 Draft Budget</p>\n<p>6. Adjourn Public Meeting on FY 2020 Draf
 t Budget</p>\n
URL:https://southbethany.delaware.gov/events/public-meeting-on-fy2020-
 draft-budget/
ATTACH:https://southbethany.delaware.gov/events/public-meeting-on-fy20
 20-draft-budget/
LOCATION:Town Hall\, 402 Evergreen Road\, South Bethany
END:VEVENT
END:VCALENDAR
