BEGIN:VCALENDAR
VERSION:2.0
METHOD:PUBLISH
PRODID:-//hacksw/handcal//NONSGML v1.0//EN
BEGIN:VEVENT
DTSTAMP:20260425T212136Z
DTSTART:20190208T223000Z
DTEND:20190209T000000Z
UID:20190208T223000Z-20190209T000000Z-189@southbethany.delaware.gov
SUMMARY:Town Council Meeting
DESCRIPTION:Click or tap to open the following PDFs:\n\nFebruary 8\, 2
 019\, Town Council Regular Meeting Minutes\n\nAgenda - February 8\, 20
 19\, Town Council Regular Meeting\n\nLeadership and Committee Reports 
 (Updated 2 8 19) - February 8\, 2019\, Town Council Regular Meeting\n\
 nPublic Notice - First Reading Ordinance 194-19\nAGENDA\n1. Meeting Ca
 lled to Order (Mayor Saxton)\nA. Call to Order by the Mayor\nB. Pledge
  of Allegiance to the Flag\nC. Announcement of Absences and Participat
 ion by Remote Access\n\n2. Motion to go into Executive Session\n\n3. E
 xecutive session for purposes of: Discussion of an individual citizen'
 s qualifications to hold a job or pursue training unless the citizen r
 equests that such a meeting be open. 29 Del. C. §10004(b) (1) and\;\nD
 iscussion of the content of documents\, excluded from the definition o
 f public record in § 10002 of this title where such discussion may dis
 close the contents of such documents. 29 Del. C. §10004(b) (6).\n\n4. 
 Motion to exit Executive Session\n\n5. Discussion and possible vote(s)
  on action items\n\n6. Adoption of Minutes - December 14\, 2018\, Town
  Council Regular Meeting\n\n7. Discussion and vote on approving the su
 bmittal of an applicant to the Police Academy\n\n8. Budget Amendment(s
 ) to move approximately $15\,817 funds from the ARM to Operating (DPS)
  - Computer Maintenance Repair line item to cover expense of repair of
  Digital Evidence Server equipment.\n\n9. Discussion and possible vote
  on a Pay Plan and Rank Structure for the Police Department.\n\n10. Ad
 ministrative Matters\nA. Discussion and possible vote on the approval 
 of the 2019 Board of Election\nB. Discussion and possible vote on the 
 approval of the 2019 Election Worker\n\n11. Ordinances\nA. First Readi
 ng of Ordinance 194-19\, to amend the Code of the Town of South Bethan
 y Chapter 94\, Parking\, §§ 94-6 and 94-7 to end the Town’s dual syste
 m permits\, eliminate nontransferable permits and transferable permits
  and set up one type of residential permit\, and include obtaining par
 king permits online through the South Bethany website.\n\n12. Discussi
 on and possible vote to disband the Beach Access Improvement Ad Hoc Co
 mmittee and the Long Range Planning Ad Hoc Committee.\n\n13. Leadershi
 p Reports\nA. Mayor's Report (Tim Saxton)\nB. Town Manager's Report (M
 aureen Hartman)\nC. Treasurer's Report (Don Boteler)\nD. Police Depart
 ment Report (Chief Crowson)\n\n14. Committee and Commission Reports\nA
 . Budget and Finance Committee (Don Boteler)\nB. Canal Water Quality C
 ommittee (Frank Weisgerber)\nC. Charter and Code Committee (Jimmy Oliv
 er)\nD. Communications and Public Relations Committee (Carol Stevenson
 )\nE. Community Enhancement Committee (Sue Callaway)\n\n15. Public Com
 ment (3-minute limit per speaker)\n\n16. Adjournment
X-ALT-DESC;FMTTYPE=text/html:<p><strong>Click or tap to open the follo
 wing PDFs:</strong></p>\n<p><a href=https://southbethany.delaware.gov/
 files/2019/03/February-8-2019-Town-Council-Regular-Meeting-Minutes.pdf
  target=_blank rel=noopener>February 8\, 2019\, Town Council Regular M
 eeting Minutes</a></p>\n<p><a href=https://southbethany.delaware.gov/f
 iles/2019/02/Agenda-February-8-2019-Town-Council-Regular-Meeting.pdf t
 arget=_blank rel=noopener>Agenda &#8211\; February 8\, 2019\, Town Cou
 ncil Regular Meeting</a></p>\n<p><a href=https://southbethany.delaware
 .gov/files/2019/02/Leadership-and-Committee-Reports-Updated-2-8-19-Feb
 ruary-8-2019-Town-Council-Regular-Meeting.pdf target=_blank rel=noopen
 er>Leadership and Committee Reports (Updated 2 8 19) &#8211\; February
  8\, 2019\, Town Council Regular Meeting</a></p>\n<p><a href=https://s
 outhbethany.delaware.gov/files/2019/02/Public-Notice-First-Reading-Ord
 inance-194-19.pdf target=_blank rel=noopener>Public Notice &#8211\; Fi
 rst Reading Ordinance 194-19</a></p>\n<p style=text-align: center\;><s
 trong>AGENDA</strong></p>\n<p><strong>1. Meeting Called to Order (Mayo
 r Saxton)</strong><br />\nA. Call to Order by the Mayor<br />\nB. Pled
 ge of Allegiance to the Flag<br />\nC. Announcement of Absences and Pa
 rticipation by Remote Access</p>\n<p><strong>2. Motion to go into Exec
 utive Session</strong></p>\n<p><strong>3. Executive session for purpos
 es of: Discussion of an individual citizen&#8217\;s qualifications to 
 hold a job or pursue training unless the citizen requests that such a 
 meeting be open. 29 Del. C. §10004(b) (1) and\;</strong><br />\n<stron
 g>Discussion of the content of documents\, excluded from the definitio
 n of &#8220\;public record&#8221\; in § 10002 of this title where such
  discussion may disclose the contents of such documents. 29 Del. C. §1
 0004(b) (6).</strong></p>\n<p><strong>4. Motion to exit Executive Sess
 ion</strong></p>\n<p><strong>5. Discussion and possible vote(s) on act
 ion items</strong></p>\n<p><strong>6. Adoption of Minutes &#8211\; Dec
 ember 14\, 2018\, Town Council Regular Meeting</strong></p>\n<p><stron
 g>7. Discussion and vote on approving the submittal of an applicant to
  the Police Academy</strong></p>\n<p><strong>8. Budget Amendment(s) to
  move approximately $15\,817 funds from the ARM to Operating (DPS) &#8
 211\; Computer Maintenance Repair line item to cover expense of repair
  of Digital Evidence Server equipment.</strong></p>\n<p><strong>9. Dis
 cussion and possible vote on a Pay Plan and Rank Structure for the Pol
 ice Department.</strong></p>\n<p><strong>10. Administrative Matters</s
 trong><br />\nA. Discussion and possible vote on the approval of the 2
 019 Board of Election<br />\nB. Discussion and possible vote on the ap
 proval of the 2019 Election Worker</p>\n<p><strong>11. Ordinances</str
 ong><br />\nA. First Reading of Ordinance 194-19\, to amend the Code o
 f the Town of South Bethany Chapter 94\, Parking\, §§ 94-6 and 94-7 to
  end the Town’s dual system permits\, eliminate nontransferable permit
 s and transferable permits and set up one type of residential permit\,
  and include obtaining parking permits online through the South Bethan
 y website.</p>\n<p><strong>12. Discussion and possible vote to disband
  the Beach Access Improvement Ad Hoc Committee and the Long Range Plan
 ning Ad Hoc Committee.</strong></p>\n<p><strong>13. Leadership Reports
 </strong><br />\nA. Mayor&#8217\;s Report (Tim Saxton)<br />\nB. Town 
 Manager&#8217\;s Report (Maureen Hartman)<br />\nC. Treasurer&#8217\;s
  Report (Don Boteler)<br />\nD. Police Department Report (Chief Crowso
 n)</p>\n<p><strong>14. Committee and Commission Reports</strong><br />
 \nA. Budget and Finance Committee (Don Boteler)<br />\nB. Canal Water 
 Quality Committee (Frank Weisgerber)<br />\nC. Charter and Code Commit
 tee (Jimmy Oliver)<br />\nD. Communications and Public Relations Commi
 ttee (Carol Stevenson)<br />\nE. Community Enhancement Committee (Sue 
 Callaway)</p>\n<p><strong>15. Public Comment (3-minute limit per speak
 er)</strong></p>\n<p><strong>16. Adjournment</strong></p>\n
URL:https://southbethany.delaware.gov/events/189/town-council-meeting/
 ?lang=en
ATTACH:https://southbethany.delaware.gov/events/189/town-council-meeti
 ng/?lang=en
LOCATION:Town Hall\, 402 Evergreen Road\, South Bethany
END:VEVENT
END:VCALENDAR
