BEGIN:VCALENDAR
VERSION:2.0
METHOD:PUBLISH
PRODID:-//hacksw/handcal//NONSGML v1.0//EN
BEGIN:VEVENT
DTSTAMP:20210927T114742Z
DTSTART:20201030T180000Z
DTEND:20201031T050000Z
UID:20201030T180000Z-20201031T050000Z-1835@southbethany.delaware.gov
SUMMARY:Board of Adjustment Two Hearings
DESCRIPTION:BOA AGENDA October 30\, 2020\n\nBOA PUBLIC HEARING KEEFE &
  STEFANI\n\nBOA Minutes KEEFE & STEFANI\n\nBOA PUBLIC HEARING ABBOTT\n
 \nBOA Minutes ABBOTT
X-ALT-DESC;FMTTYPE=text/html:<p><a href=https://southbethany.delaware.
 gov/files/2021/03/BOA-AGENDA-October-30-2020.pdf>BOA AGENDA October 30
 \, 2020</a></p>\n<p><a href=https://southbethany.delaware.gov/files/20
 20/09/BOA-PUBLIC-HEARING-KEEFE-STEFANI.pdf>BOA PUBLIC HEARING KEEFE &a
 mp\; STEFANI</a></p>\n<p><a href=https://southbethany.delaware.gov/fil
 es/2020/12/BOA-Minutes-KEEFE-STEFANI.pdf>BOA Minutes KEEFE &amp\; STEF
 ANI</a></p>\n<p><a href=https://southbethany.delaware.gov/files/2020/0
 9/BOA-PUBLIC-HEARING-ABBOTT.pdf>BOA PUBLIC HEARING ABBOTT</a></p>\n<p>
 <a href=https://southbethany.delaware.gov/files/2020/12/BOA-Minutes-AB
 BOTT.pdf>BOA Minutes ABBOTT</a></p>\n
URL:https://southbethany.delaware.gov/events/boa-virtual-hearings/
ATTACH:https://southbethany.delaware.gov/events/boa-virtual-hearings/
END:VEVENT
END:VCALENDAR
