BEGIN:VCALENDAR
VERSION:2.0
METHOD:PUBLISH
PRODID:-//hacksw/handcal//NONSGML v1.0//EN
BEGIN:VEVENT
DTSTAMP:20260424T204821Z
DTSTART:20180710T190000Z
DTEND:20180710T231100Z
UID:20180710T190000Z-20180710T231100Z-18@southbethany.delaware.gov
SUMMARY:Budget & Finance Committee Meeting - CANCELED
DESCRIPTION:NOTICE 7 9 18 Workshop Canceled
X-ALT-DESC;FMTTYPE=text/html:<p><a href=http://southbethany.delaware.g
 ov/files/2018/11/NOTICE-7-9-18-Workshop-Canceled.pdf>NOTICE 7 9 18 Wor
 kshop Canceled</a></p>\n
URL:https://southbethany.delaware.gov/events/18/budget-finance-committ
 ee-meeting-canceled/
ATTACH:https://southbethany.delaware.gov/events/18/budget-finance-comm
 ittee-meeting-canceled/
LOCATION:Town Hall\, 402 Evergreen Road\, South Bethany
END:VEVENT
END:VCALENDAR
