BEGIN:VCALENDAR
VERSION:2.0
METHOD:PUBLISH
PRODID:-//hacksw/handcal//NONSGML v1.0//EN
BEGIN:VEVENT
DTSTAMP:20210516T010916Z
DTSTART:20160916T150000Z
DTEND:20160917T040000Z
UID:20160916T150000Z-20160917T040000Z-177@southbethany.delaware.gov
SUMMARY:Planning Commission Meeting
DESCRIPTION:Planning Commission - Notice of Public Hearing - September
  16\, 2016\, at 10 a.m.\n\nSeptember 16\, 2016\, Planning Commission M
 eeting Minutes
X-ALT-DESC;FMTTYPE=text/html:<p><a href=http://southbethany.delaware.g
 ov/files/2018/11/Planning-Commission-Notice-of-Public-Hearing-Septembe
 r-16-2016-at-10-a.m..pdf>Planning Commission &#8211\; Notice of Public
  Hearing &#8211\; September 16\, 2016\, at 10 a.m.</a></p>\n<p><a href
 =http://southbethany.delaware.gov/files/2018/11/September-16-2016-Plan
 ning-Commission-Meeting-Minutes.pdf>September 16\, 2016\, Planning Com
 mission Meeting Minutes</a></p>\n
URL:https://southbethany.delaware.gov/events/177/planning-commission-m
 eeting/
ATTACH:https://southbethany.delaware.gov/events/177/planning-commissio
 n-meeting/
LOCATION:Town Hall\, 402 Evergreen Road\, South Bethany
END:VEVENT
END:VCALENDAR
