BEGIN:VCALENDAR
VERSION:2.0
METHOD:PUBLISH
PRODID:-//hacksw/handcal//NONSGML v1.0//EN
BEGIN:VEVENT
DTSTAMP:20210516T010859Z
DTSTART:20161114T150000Z
DTEND:20161114T160000Z
UID:20161114T150000Z-20161114T160000Z-175@southbethany.delaware.gov
SUMMARY:Planning Commission Meeting
DESCRIPTION:November 14\, 2016\, Planning Commission Meeting Minutes
X-ALT-DESC;FMTTYPE=text/html:<p><a href=http://southbethany.delaware.g
 ov/files/2018/11/November-14-2016-Planning-Commission-Meeting-Minutes.
 pdf>November 14\, 2016\, Planning Commission Meeting Minutes</a></p>\n
URL:https://southbethany.delaware.gov/events/175/planning-commission-m
 eeting/
ATTACH:https://southbethany.delaware.gov/events/175/planning-commissio
 n-meeting/
LOCATION:Town Hall\, 402 Evergreen Road\, South Bethany
END:VEVENT
END:VCALENDAR
