BEGIN:VCALENDAR
VERSION:2.0
METHOD:PUBLISH
PRODID:-//hacksw/handcal//NONSGML v1.0//EN
BEGIN:VEVENT
DTSTAMP:20260425T212137Z
DTSTART:20180821T200000Z
DTEND:20180821T230600Z
UID:20180821T200000Z-20180821T230600Z-17@southbethany.delaware.gov
SUMMARY:Long Range Planning Ad Hoc Committee Meeting
DESCRIPTION:Agenda - Long Range Planning Committee 8-21-18
X-ALT-DESC;FMTTYPE=text/html:<p><a href=http://southbethany.delaware.g
 ov/files/2018/11/Agenda-Long-Range-Planning-Committee-8-21-18.pdf>Agen
 da &#8211\; Long Range Planning Committee 8-21-18</a></p>\n
URL:https://southbethany.delaware.gov/events/17/long-range-planning-ad
 -hoc-committee-meeting/?lang=en
ATTACH:https://southbethany.delaware.gov/events/17/long-range-planning
 -ad-hoc-committee-meeting/?lang=en
LOCATION:Town Hall\, 402 Evergreen Road\, South Bethany
END:VEVENT
END:VCALENDAR
