BEGIN:VCALENDAR
VERSION:2.0
METHOD:PUBLISH
PRODID:-//hacksw/handcal//NONSGML v1.0//EN
BEGIN:VEVENT
DTSTAMP:20210515T181412Z
DTSTART:20171117T150000Z
DTEND:20171117T160900Z
UID:20171117T150000Z-20171117T160900Z-165@southbethany.delaware.gov
SUMMARY:Planning Commission Meeting
DESCRIPTION:PC Minutes - Nov. 17 2017\n\nPlanning Commission Agenda - 
 Nov. 17 2017
X-ALT-DESC;FMTTYPE=text/html:<p><a href=http://southbethany.delaware.g
 ov/files/2018/11/PC-Minutes-Nov.-17-2017.pdf>PC Minutes &#8211\; Nov. 
 17 2017</a></p>\n<p><a href=http://southbethany.delaware.gov/files/201
 8/11/Planning-Commission-Agenda-Nov.-17-2017.pdf>Planning Commission A
 genda &#8211\; Nov. 17 2017</a></p>\n
URL:https://southbethany.delaware.gov/events/165/planning-commission-m
 eeting/
ATTACH:https://southbethany.delaware.gov/events/165/planning-commissio
 n-meeting/
LOCATION:Town Hall\, 402 Evergreen Road\, South Bethany
END:VEVENT
END:VCALENDAR
