BEGIN:VCALENDAR
VERSION:2.0
METHOD:PUBLISH
PRODID:-//hacksw/handcal//NONSGML v1.0//EN
BEGIN:VEVENT
DTSTAMP:20260425T194812Z
DTSTART:20181116T150000Z
DTEND:20181116T160000Z
UID:20181116T150000Z-20181116T160000Z-161@southbethany.delaware.gov
SUMMARY:Planning Commission Meeting
DESCRIPTION:Agenda - November 16\, 2018\, Planning Commission Meeting\
 n\nNovember 16\, 2018 Minutes
X-ALT-DESC;FMTTYPE=text/html:<p><a href=http://southbethany.delaware.g
 ov/files/2018/11/Agenda-November-16-2018-Planning-Commission-Meeting.p
 df target=_blank rel=noopener>Agenda &#8211\; November 16\, 2018\, Pla
 nning Commission Meeting</a></p>\n<p><a href=https://southbethany.dela
 ware.gov/files/2020/12/November-16-2018-Minutes.pdf>November 16\, 2018
  Minutes</a></p>\n
URL:https://southbethany.delaware.gov/events/planning-commission-meeti
 ng-13/
ATTACH:https://southbethany.delaware.gov/events/planning-commission-me
 eting-13/
LOCATION:Town Hall\, 402 Evergreen Road\, South Bethany
END:VEVENT
END:VCALENDAR
