BEGIN:VCALENDAR
VERSION:2.0
METHOD:PUBLISH
PRODID:-//hacksw/handcal//NONSGML v1.0//EN
BEGIN:VEVENT
DTSTAMP:20260425T194813Z
DTSTART:20180914T160000Z
DTEND:20180914T230300Z
UID:20180914T160000Z-20180914T230300Z-16@southbethany.delaware.gov
SUMMARY:Budget & Finance Meeting
DESCRIPTION:B F minutes Sept 14 2018\n\nRevised Agenda - Sept 14 2018 
 Budget and Finance Committee Meeting.pdf
X-ALT-DESC;FMTTYPE=text/html:<p><a href=https://southbethany.delaware.
 gov/files/2019/01/B-F-minutes-Sept-14-2018.pdf>B F minutes Sept 14 201
 8</a></p>\n<p><a href=http://southbethany.delaware.gov/files/2018/11/R
 evised-Agenda-Sept-14-2018-Budget-and-Finance-Committee-Meeting.pdf>Re
 vised Agenda &#8211\; Sept 14 2018 Budget and Finance Committee Meetin
 g.pdf</a></p>\n
URL:https://southbethany.delaware.gov/events/16/budget-finance-meeting
 /
ATTACH:https://southbethany.delaware.gov/events/16/budget-finance-meet
 ing/
LOCATION:Town Hall\, 402 Evergreen Road\, South Bethany
END:VEVENT
END:VCALENDAR
