BEGIN:VCALENDAR
VERSION:2.0
METHOD:PUBLISH
PRODID:-//hacksw/handcal//NONSGML v1.0//EN
BEGIN:VEVENT
DTSTAMP:20260425T212137Z
DTSTART:20180921T150000Z
DTEND:20180921T160000Z
UID:20180921T150000Z-20180921T160000Z-145@southbethany.delaware.gov
SUMMARY:Community Enhancement Committee Meeting
DESCRIPTION:CEC Meeting 9-21-18 Final Summary\n\nAgenda - September 21
 \, 2018\, Community Enhancement Committee Meeting
X-ALT-DESC;FMTTYPE=text/html:<p><a href=https://southbethany.delaware.
 gov/files/2019/07/CEC-Meeting-9-21-18-Final-Summary.pdf target=_blank 
 rel=noopener>CEC Meeting 9-21-18 Final Summary</a></p>\n<p><a href=htt
 p://southbethany.delaware.gov/files/2018/11/Agenda-September-21-2018-C
 ommunity-Enhancement-Committee-Meeting.pdf>Agenda &#8211\; September 2
 1\, 2018\, Community Enhancement Committee Meeting</a></p>\n
URL:https://southbethany.delaware.gov/events/community-enhancement-com
 mittee-meeting-4/?lang=en
ATTACH:https://southbethany.delaware.gov/events/community-enhancement-
 committee-meeting-4/?lang=en
LOCATION:Town Hall\, 402 Evergreen Road\, South Bethany
END:VEVENT
END:VCALENDAR
