BEGIN:VCALENDAR
VERSION:2.0
METHOD:PUBLISH
PRODID:-//hacksw/handcal//NONSGML v1.0//EN
BEGIN:VEVENT
DTSTAMP:20260425T212134Z
DTSTART:20181026T150000Z
DTEND:20181026T160000Z
UID:20181026T150000Z-20181026T160000Z-144@southbethany.delaware.gov
SUMMARY:Community Enhancement Committee Meeting
DESCRIPTION:Click or tap to open the following PDFs:\n\nCEC Meeting 10
 -26-18 Final Summary\n\nAgenda - October 26\, 2018\, Community Enhance
 ment Committee Meeting
X-ALT-DESC;FMTTYPE=text/html:<p><strong>Click or tap to open the follo
 wing PDFs:</strong></p>\n<p><strong><a href=https://southbethany.delaw
 are.gov/files/2019/07/CEC-Meeting-10-26-18-Final-Summary.pdf target=_b
 lank rel=noopener>CEC Meeting 10-26-18 Final Summary</a></strong></p>\
 n<p><strong><a href=http://southbethany.delaware.gov/files/2018/11/Age
 nda-October-26-2018-Community-Enhancement-Committee-Meeting.pdf>Agenda
  &#8211\; October 26\, 2018\, Community Enhancement Committee Meeting<
 /a></strong></p>\n
URL:https://southbethany.delaware.gov/events/community-enhancement-com
 mittee-meeting-5/?lang=en
ATTACH:https://southbethany.delaware.gov/events/community-enhancement-
 committee-meeting-5/?lang=en
LOCATION:Town Hall\, 402 Evergreen Road\, South Bethany
END:VEVENT
END:VCALENDAR
