BEGIN:VCALENDAR
VERSION:2.0
METHOD:PUBLISH
PRODID:-//hacksw/handcal//NONSGML v1.0//EN
BEGIN:VEVENT
DTSTAMP:20210926T225125Z
DTSTART:20181108T180000Z
DTEND:20181108T190000Z
UID:20181108T180000Z-20181108T190000Z-142@southbethany.delaware.gov
SUMMARY:Town Council Special Meeting
DESCRIPTION:November 8\, 2018\, Town Council Special Meeting Minutes\n
 \nAgenda - November 8\, 2018\, Town Council Special Meeting
X-ALT-DESC;FMTTYPE=text/html:<p><a href=https://southbethany.delaware.
 gov/files/2018/12/November-8-2018-Town-Council-Special-Meeting-Minutes
 .pdf target=_blank rel=noopener>November 8\, 2018\, Town Council Speci
 al Meeting Minutes</a></p>\n<p><a href=http://southbethany.delaware.go
 v/files/2018/11/Agenda-November-8-2018-Town-Council-Special-Meeting.pd
 f>Agenda &#8211\; November 8\, 2018\, Town Council Special Meeting</a>
 </p>\n
URL:https://southbethany.delaware.gov/events/142/town-council-special-
 meeting/
ATTACH:https://southbethany.delaware.gov/events/142/town-council-speci
 al-meeting/
LOCATION:Town Hall\, 402 Evergreen Road\, South Bethany
END:VEVENT
END:VCALENDAR
