BEGIN:VCALENDAR
VERSION:2.0
METHOD:PUBLISH
PRODID:-//hacksw/handcal//NONSGML v1.0//EN
BEGIN:VEVENT
DTSTAMP:20260426T001844Z
DTSTART:20181012T230000Z
DTEND:20181013T000000Z
UID:20181012T230000Z-20181013T000000Z-140@southbethany.delaware.gov
SUMMARY:Town Council Regular Meeting
DESCRIPTION:October 12\, 2018\, Town Council Regular Meeting Minutes\n
 \nAttachment to October 12\, 2018\, Town Council Regular Meeting Minut
 es - Verizon Presentation Small Wireless Facilities\n\nRevised Agenda 
 - October 12\, 2018\, Town Council Regular Meeting\n\nLeadership and C
 ommittee Reports (Updated 10 11 18) - October 12\, 2018\, Town Council
  Regular Meeting
X-ALT-DESC;FMTTYPE=text/html:<p><a href=http://southbethany.delaware.g
 ov/files/2018/11/October-12-2018-Town-Council-Regular-Meeting-Minutes.
 pdf>October 12\, 2018\, Town Council Regular Meeting Minutes</a></p>\n
 <p><a href=http://southbethany.delaware.gov/files/2018/11/Attachment-t
 o-October-12-2018-Town-Council-Regular-Meeting-Minutes-Verizon-Present
 ation-Small-Wireless-Facilities.pdf>Attachment to October 12\, 2018\, 
 Town Council Regular Meeting Minutes &#8211\; Verizon Presentation Sma
 ll Wireless Facilities</a></p>\n<p><a href=http://southbethany.delawar
 e.gov/files/2018/11/Revised-Agenda-October-12-2018-Town-Council-Regula
 r-Meeting.pdf>Revised Agenda &#8211\; October 12\, 2018\, Town Council
  Regular Meeting</a></p>\n<p><a href=http://southbethany.delaware.gov/
 files/2018/11/Leadership-and-Committee-Reports-Updated-10-11-18-Octobe
 r-12-2018-Town-Council-Regular-Meeting.pdf>Leadership and Committee Re
 ports (Updated 10 11 18) &#8211\; October 12\, 2018\, Town Council Reg
 ular Meeting</a></p>\n
URL:https://southbethany.delaware.gov/events/140/town-council-regular-
 meeting/?lang=en
ATTACH:https://southbethany.delaware.gov/events/140/town-council-regul
 ar-meeting/?lang=en
LOCATION:Town Hall\, 402 Evergreen Road\, South Bethany
END:VEVENT
END:VCALENDAR
