BEGIN:VCALENDAR
VERSION:2.0
METHOD:PUBLISH
PRODID:-//hacksw/handcal//NONSGML v1.0//EN
BEGIN:VEVENT
DTSTAMP:20260425T102556Z
DTSTART:20180927T200000Z
DTEND:20180927T210000Z
UID:20180927T200000Z-20180927T210000Z-139@southbethany.delaware.gov
SUMMARY:Town Council Workshop Meeting
DESCRIPTION:September 27\, 2018\, Town Council Workshop Meeting Minute
 s\n\nAgenda - September 27\, 2018\, Town Council Workshop Meeting
X-ALT-DESC;FMTTYPE=text/html:<p><a href=http://southbethany.delaware.g
 ov/files/2018/11/September-27-2018-Town-Council-Workshop-Meeting-Minut
 es-.pdf>September 27\, 2018\, Town Council Workshop Meeting Minutes</a
 ></p>\n<p><a href=http://southbethany.delaware.gov/files/2018/11/Agend
 a-September-27-2018-Town-Council-Workshop-Meeting.pdf>Agenda &#8211\; 
 September 27\, 2018\, Town Council Workshop Meeting</a></p>\n
URL:https://southbethany.delaware.gov/events/139/town-council-workshop
 -meeting/
ATTACH:https://southbethany.delaware.gov/events/139/town-council-works
 hop-meeting/
LOCATION:Town Hall\, 402 Evergreen Road\, South Bethany
END:VEVENT
END:VCALENDAR
