BEGIN:VCALENDAR
VERSION:2.0
METHOD:PUBLISH
PRODID:-//hacksw/handcal//NONSGML v1.0//EN
BEGIN:VEVENT
DTSTAMP:20260426T001843Z
DTSTART:20180914T180000Z
DTEND:20180914T190000Z
UID:20180914T180000Z-20180914T190000Z-138@southbethany.delaware.gov
SUMMARY:Town Council Regular Meeting
DESCRIPTION:September 14\, 2018\, Town Council Regular Meeting Minutes
 \n\nRescheduled Meeting Agenda - September 14\, 2018\, Town Council Re
 gular Meeting Rescheduled to 1 p.m.\n\nLeadership and Committee Report
 s (Updated 9 12 18) -- September 14\, 2018\, Town Council Regular Meet
 ing
X-ALT-DESC;FMTTYPE=text/html:<p><a href=http://southbethany.delaware.g
 ov/files/2018/11/September-14-2018-Town-Council-Regular-Meeting-Minute
 s.pdf>September 14\, 2018\, Town Council Regular Meeting Minutes</a></
 p>\n<p><a href=/files/2018/12/Rescheduled-Meeting-Agenda-September-14-
 2018-Town-Council-Regular-Meeting-Rescheduled-to-1pm.pdf target=_blank
  rel=noopener>Rescheduled Meeting Agenda &#8211\; September 14\, 2018\
 , Town Council Regular Meeting Rescheduled to 1 p.m.</a></p>\n<p><a hr
 ef=http://southbethany.delaware.gov/files/2018/11/Leadership-and-Commi
 ttee-Reports-Updated-9-12-18-September-14-2018-Town-Council-Regular-Me
 eting.pdf>Leadership and Committee Reports (Updated 9 12 18) &#8212\; 
 September 14\, 2018\, Town Council Regular Meeting</a></p>\n
URL:https://southbethany.delaware.gov/events/138/town-council-regular-
 meeting/?lang=en
ATTACH:https://southbethany.delaware.gov/events/138/town-council-regul
 ar-meeting/?lang=en
LOCATION:Town Hall\, 402 Evergreen Road\, South Bethany
END:VEVENT
END:VCALENDAR
