BEGIN:VCALENDAR
VERSION:2.0
METHOD:PUBLISH
PRODID:-//hacksw/handcal//NONSGML v1.0//EN
BEGIN:VEVENT
DTSTAMP:20260425T212140Z
DTSTART:20180810T230000Z
DTEND:20180811T000000Z
UID:20180810T230000Z-20180811T000000Z-136@southbethany.delaware.gov
SUMMARY:Town Council Regular Meeting
DESCRIPTION:August 10\, 2018\, Town Council Regular Meeting Minutes\n\
 nRevised Agenda - August 10 2018 Town Council Regular Meeting\n\nLeade
 rship and Committee Reports (Updated 8 8 18) - August 10\, 2018\, Town
  Council Regular Meeting
X-ALT-DESC;FMTTYPE=text/html:<p><a href=http://southbethany.delaware.g
 ov/files/2018/11/August-10-2018-Town-Council-Regular-Meeting-Minutes.p
 df>August 10\, 2018\, Town Council Regular Meeting Minutes</a></p>\n<p
 ><a href=http://southbethany.delaware.gov/files/2018/11/Revised-Agenda
 -August-10-2018-Town-Council-Regular-Meeting.pdf>Revised Agenda &#8211
 \; August 10 2018 Town Council Regular Meeting</a></p>\n<p><a href=htt
 p://southbethany.delaware.gov/files/2018/11/Leadership-and-Committee-R
 eports-Updated-8-8-18-August-10-2018-Town-Council-Regular-Meeting.pdf>
 Leadership and Committee Reports (Updated 8 8 18) &#8211\; August 10\,
  2018\, Town Council Regular Meeting</a></p>\n
URL:https://southbethany.delaware.gov/events/136/town-council-regular-
 meeting/?lang=en
ATTACH:https://southbethany.delaware.gov/events/136/town-council-regul
 ar-meeting/?lang=en
LOCATION:Town Hall\, 402 Evergreen Road\, South Bethany
END:VEVENT
END:VCALENDAR
