BEGIN:VCALENDAR
VERSION:2.0
METHOD:PUBLISH
PRODID:-//hacksw/handcal//NONSGML v1.0//EN
BEGIN:VEVENT
DTSTAMP:20260425T034046Z
DTSTART:20180726T200000Z
DTEND:20180726T210000Z
UID:20180726T200000Z-20180726T210000Z-135@southbethany.delaware.gov
SUMMARY:Town Council Workshop Meeting
DESCRIPTION:July 26\, 2018\, Town Council Workshop Meeting Minutes\n\n
 Revised Agenda - July 26\, 2018\, Town Council Workshop Meeting
X-ALT-DESC;FMTTYPE=text/html:<p><a href=http://southbethany.delaware.g
 ov/files/2018/11/July-26-2018-Town-Council-Workshop-Meeting-Minutes.pd
 f>July 26\, 2018\, Town Council Workshop Meeting Minutes</a></p>\n<p><
 a href=http://southbethany.delaware.gov/files/2018/11/Revised-Agenda-J
 uly-26-2018-Town-Council-Workshop-Meeting.pdf>Revised Agenda &#8211\; 
 July 26\, 2018\, Town Council Workshop Meeting</a></p>\n
URL:https://southbethany.delaware.gov/events/135/town-council-workshop
 -meeting/
ATTACH:https://southbethany.delaware.gov/events/135/town-council-works
 hop-meeting/
LOCATION:Town Hall\, 402 Evergreen Road\, South Bethany
END:VEVENT
END:VCALENDAR
