BEGIN:VCALENDAR
VERSION:2.0
METHOD:PUBLISH
PRODID:-//hacksw/handcal//NONSGML v1.0//EN
BEGIN:VEVENT
DTSTAMP:20210430T002304Z
DTSTART:20210325T200000Z
DTEND:20210325T213000Z
UID:20210325T200000Z-20210325T213000Z-1343@southbethany.delaware.gov
SUMMARY:Town Council Budget Workshop Meeting
DESCRIPTION:AgendaRevised.March 25 2021.TC Workshop\n\n3.25.21 Budget 
 Workshop Minutes.FINALw\n\n 
X-ALT-DESC;FMTTYPE=text/html:<p><a href=https://southbethany.delaware.
 gov/files/2021/03/AgendaRevised.March-25-2021.TC-Workshop.pdf>AgendaRe
 vised.March 25 2021.TC Workshop</a></p>\n<p><a href=https://southbetha
 ny.delaware.gov/files/2021/04/3.25.21-Budget-Workshop-Minutes.FINALw.p
 df>3.25.21 Budget Workshop Minutes.FINALw</a></p>\n<p>&nbsp\;</p>\n
URL:https://southbethany.delaware.gov/events/town-council-budget-works
 hop-meeting-6/
ATTACH:https://southbethany.delaware.gov/events/town-council-budget-wo
 rkshop-meeting-6/
LOCATION:South Bethany\, \, South Bethany
END:VEVENT
END:VCALENDAR
