BEGIN:VCALENDAR
VERSION:2.0
METHOD:PUBLISH
PRODID:-//hacksw/handcal//NONSGML v1.0//EN
BEGIN:VEVENT
DTSTAMP:20210922T140447Z
DTSTART:20210312T150000Z
DTEND:20210312T170000Z
UID:20210312T150000Z-20210312T170000Z-1340@southbethany.delaware.gov
SUMMARY:Town Council Regular Meeting
DESCRIPTION: \n\nClick below to open: \n\n3.12.21 Meeting Minutes.FINA
 Lw\n\nAMENDED Agenda.March 12 2021.TC Regular Meeting\n\nSB FY2022 Bud
 get Highlights.31.2.21\n\nChapter 30.AnimalCodeAmendments.2ndReadingFo
 rmat\n\nChapter 94.ParkingCodeAmendments.2ndReadingFormat\n\nLeadershi
 p Reports:\n\nMayor Report - March 12\, 2021\n\nTownManagerReport.3.12
 .21\n\nFY2021feb21.Treasurer report\n\nCommittee Reports: \n\nSBCC com
 mittee report_March 2021\n\nTC CEC MEETING REPORT 3-12-21\n\n 
X-ALT-DESC;FMTTYPE=text/html:<p>&nbsp\;</p>\n<p>Click below to open:&n
 bsp\;</p>\n<p><a href=https://southbethany.delaware.gov/files/2021/04/
 3.12.21-Meeting-Minutes.FINALw-1.pdf>3.12.21 Meeting Minutes.FINALw</a
 ></p>\n<p><a href=https://southbethany.delaware.gov/files/2021/03/AMEN
 DED-Agenda.March-12-2021.TC-Regular-Meeting.pdf>AMENDED Agenda.March 1
 2 2021.TC Regular Meeting</a></p>\n<p><a href=https://southbethany.del
 aware.gov/files/2021/03/SB-FY2022-Budget-Highlights.31.2.21.pdf>SB FY2
 022 Budget Highlights.31.2.21</a></p>\n<p><a href=https://southbethany
 .delaware.gov/files/2021/03/Chapter-30.AnimalCodeAmendments.2ndReading
 Format.pdf>Chapter 30.AnimalCodeAmendments.2ndReadingFormat</a></p>\n<
 p><a href=https://southbethany.delaware.gov/files/2021/03/Chapter-94.P
 arkingCodeAmendments.2ndReadingFormat.pdf>Chapter 94.ParkingCodeAmendm
 ents.2ndReadingFormat</a></p>\n<p><strong>Leadership Reports:</strong>
 </p>\n<p><a href=https://southbethany.delaware.gov/files/2021/03/Mayor
 -Report-March-12-2021.pdf>Mayor Report &#8211\; March 12\, 2021</a></p
 >\n<p><a href=https://southbethany.delaware.gov/files/2021/03/TownMana
 gerReport.3.12.21.pdf>TownManagerReport.3.12.21</a></p>\n<p><a href=ht
 tps://southbethany.delaware.gov/files/2021/03/FY2021feb21.Treasurer-re
 port-1.pdf>FY2021feb21.Treasurer report</a></p>\n<p><strong>Committee 
 Reports:&nbsp\;</strong></p>\n<p><a href=https://southbethany.delaware
 .gov/files/2021/03/SBCC-committee-report_March-2021.pdf>SBCC committee
  report_March 2021</a></p>\n<p><a href=https://southbethany.delaware.g
 ov/files/2021/03/TC-CEC-MEETING-REPORT-3-12-21.pdf>TC CEC MEETING REPO
 RT 3-12-21</a></p>\n<p>&nbsp\;</p>\n
URL:https://southbethany.delaware.gov/events/town-council-regular-meet
 ing-20/
ATTACH:https://southbethany.delaware.gov/events/town-council-regular-m
 eeting-20/
LOCATION:South Bethany\, \, South Bethany
END:VEVENT
END:VCALENDAR
