BEGIN:VCALENDAR
VERSION:2.0
METHOD:PUBLISH
PRODID:-//hacksw/handcal//NONSGML v1.0//EN
BEGIN:VEVENT
DTSTAMP:20260425T114858Z
DTSTART:20180713T230000Z
DTEND:20180714T000000Z
UID:20180713T230000Z-20180714T000000Z-134@southbethany.delaware.gov
SUMMARY:Town Council Regular Meeting
DESCRIPTION:July 13\, 2018\, Town Council Regular Meeting Minutes\n\nA
 genda - July 13\, 2018\, Town Council Regular Meeting\n\nLeadership an
 d Committee Reports (Updated 7 12 18) -- July 13\, 2018\, Town Council
  Regular Meeting
X-ALT-DESC;FMTTYPE=text/html:<p><a href=http://southbethany.delaware.g
 ov/files/2018/11/July-13-2018-Town-Council-Regular-Meeting-Minutes.pdf
 >July 13\, 2018\, Town Council Regular Meeting Minutes</a></p>\n<p><a 
 href=http://southbethany.delaware.gov/files/2018/11/Agenda-July-13-201
 8-Town-Council-Regular-Meeting.pdf>Agenda &#8211\; July 13\, 2018\, To
 wn Council Regular Meeting</a></p>\n<p><a href=http://southbethany.del
 aware.gov/files/2018/11/Leadership-and-Committee-Reports-Updated-7-12-
 18-July-13-2018-Town-Council-Regular-Meeting.pdf>Leadership and Commit
 tee Reports (Updated 7 12 18) &#8212\; July 13\, 2018\, Town Council R
 egular Meeting</a></p>\n
URL:https://southbethany.delaware.gov/events/134/town-council-regular-
 meeting/
ATTACH:https://southbethany.delaware.gov/events/134/town-council-regul
 ar-meeting/
LOCATION:Town Hall\, 402 Evergreen Road\, South Bethany
END:VEVENT
END:VCALENDAR
