BEGIN:VCALENDAR
VERSION:2.0
METHOD:PUBLISH
PRODID:-//hacksw/handcal//NONSGML v1.0//EN
BEGIN:VEVENT
DTSTAMP:20260426T001842Z
DTSTART:20180628T200000Z
DTEND:20180628T210000Z
UID:20180628T200000Z-20180628T210000Z-133@southbethany.delaware.gov
SUMMARY:Town Council Workshop Meeting
DESCRIPTION:June 28\, 2018\, Town Council Workshop Meeting Minutes\n\n
 Agenda (Revised 6 28 18) - June 28\, 2018\, Town Council Workshop Meet
 ing
X-ALT-DESC;FMTTYPE=text/html:<p><a href=http://southbethany.delaware.g
 ov/files/2018/11/June-28-2018-Town-Council-Workshop-Meeting-Minutes.pd
 f>June 28\, 2018\, Town Council Workshop Meeting Minutes</a></p>\n<p><
 a href=http://southbethany.delaware.gov/files/2018/11/Agenda-Revised-6
 -28-18-June-28-2018-Town-Council-Workshop-Meeting.pdf>Agenda (Revised 
 6 28 18) &#8211\; June 28\, 2018\, Town Council Workshop Meeting</a></
 p>\n
URL:https://southbethany.delaware.gov/events/133/town-council-workshop
 -meeting/?lang=en
ATTACH:https://southbethany.delaware.gov/events/133/town-council-works
 hop-meeting/?lang=en
LOCATION:Town Hall\, 402 Evergreen Road\, South Bethany
END:VEVENT
END:VCALENDAR
