BEGIN:VCALENDAR
VERSION:2.0
METHOD:PUBLISH
PRODID:-//hacksw/handcal//NONSGML v1.0//EN
BEGIN:VEVENT
DTSTAMP:20260425T102557Z
DTSTART:20180611T190000Z
DTEND:20180611T200000Z
UID:20180611T190000Z-20180611T200000Z-132@southbethany.delaware.gov
SUMMARY:Town Council Regular Meeting
DESCRIPTION:June 11\, 2018\, Town Council Regular Meeting Minutes\n\nA
 genda (Revised) - June 11\, 2018\, Town Council Regular Meeting\n\nLea
 dership and Committee Reports Updated 6 7 18 - June 11\, 2018\, Town C
 ouncil Regular Meeting
X-ALT-DESC;FMTTYPE=text/html:<p><a href=http://southbethany.delaware.g
 ov/files/2018/11/June-11-2018-Town-Council-Regular-Meeting-Minutes.pdf
 >June 11\, 2018\, Town Council Regular Meeting Minutes</a></p>\n<p><a 
 href=http://southbethany.delaware.gov/files/2018/11/Agenda-Revised-Jun
 e-11-2018-Town-Council-Regular-Meeting.pdf>Agenda (Revised) &#8211\; J
 une 11\, 2018\, Town Council Regular Meeting</a></p>\n<p><a href=http:
 //southbethany.delaware.gov/files/2018/11/Leadership-and-Committee-Rep
 orts-Updated-6-7-18-June-11-2018-Town-Council-Regular-Meeting.pdf>Lead
 ership and Committee Reports Updated 6 7 18 &#8211\; June 11\, 2018\, 
 Town Council Regular Meeting</a></p>\n
URL:https://southbethany.delaware.gov/events/132/town-council-regular-
 meeting/
ATTACH:https://southbethany.delaware.gov/events/132/town-council-regul
 ar-meeting/
LOCATION:Town Hall\, 402 Evergreen Road\, South Bethany
END:VEVENT
END:VCALENDAR
