BEGIN:VCALENDAR
VERSION:2.0
METHOD:PUBLISH
PRODID:-//hacksw/handcal//NONSGML v1.0//EN
BEGIN:VEVENT
DTSTAMP:20260425T212135Z
DTSTART:20180602T140000Z
DTEND:20180602T160000Z
UID:20180602T140000Z-20180602T160000Z-131@southbethany.delaware.gov
SUMMARY:Town Council Organizational Meeting
DESCRIPTION:June 2\, 2018\, Town Council Organizational Meeting Minute
 s\n\nAttachment to June 2\, 2018\, Town Council Organizational Meeting
  Minutes - Rules of Procedure\n\nRevised Agenda - June 2\, 2018\, at 9
  a.m. Town Council Organizational Meeting
X-ALT-DESC;FMTTYPE=text/html:<p><a href=http://southbethany.delaware.g
 ov/files/2018/11/June-2-2018-Town-Council-Organizational-Meeting-Minut
 es.pdf>June 2\, 2018\, Town Council Organizational Meeting Minutes</a>
 </p>\n<p><a href=http://southbethany.delaware.gov/files/2018/11/Attach
 ment-to-June-2-2018-Town-Council-Organizational-Meeting-Minutes-Rules-
 of-Procedure.pdf>Attachment to June 2\, 2018\, Town Council Organizati
 onal Meeting Minutes &#8211\; Rules of Procedure</a></p>\n<p><a href=h
 ttp://southbethany.delaware.gov/files/2018/11/Revised-Agenda-June-2-20
 18-at-9-a.m.-Town-Council-Organizational-Meeting.pdf>Revised Agenda &#
 8211\; June 2\, 2018\, at 9 a.m. Town Council Organizational Meeting</
 a></p>\n
URL:https://southbethany.delaware.gov/events/131/town-council-organiza
 tional-meeting/?lang=en
ATTACH:https://southbethany.delaware.gov/events/131/town-council-organ
 izational-meeting/?lang=en
LOCATION:Town Hall\, 402 Evergreen Road\, South Bethany
END:VEVENT
END:VCALENDAR
